Workbook

Sheet Team
A1: Dienstplan 2027: Team
A3: So geht es: Tragen Sie hier einmal Ihre Mitarbeiter ein, mit Personalnummer, Qualifikation und den Soll-Stunden pro Monat. Die Namen stehen dann auf jedem Monatsblatt. Dort wählen Sie pro Tag ein Schichtkürzel aus der Liste, Excel rechnet die Ist-Stunden mit den Zeiten aus dem Blatt „Schichten“ und zeigt sie hier für jeden Monat.
E4: Ist-Stunden aus den Monatsblättern
A5: Mitarbeiter/in | B5: Personalnr. | C5: Qualifikation | D5: Soll-Std. pro Monat | E5: Jan | F5: Feb | G5: Mär | H5: Apr | I5: Mai | J5: Jun | K5: Jul | L5: Aug | M5: Sep | N5: Okt | O5: Nov | P5: Dez | Q5: Jahr 2027
E6: ='Januar'!AJ7 | F6: ='Februar'!AG7 | G6: ='März'!AJ7 | H6: ='April'!AI7 | I6: ='Mai'!AJ7 | J6: ='Juni'!AI7 | K6: ='Juli'!AJ7 | L6: ='August'!AJ7 | M6: ='September'!AI7 | N6: ='Oktober'!AJ7 | O6: ='November'!AI7 | P6: ='Dezember'!AJ7 | Q6: =IF(COUNT(E6:P6)=0,"",SUM(E6:P6))
E7: ='Januar'!AJ8 | F7: ='Februar'!AG8 | G7: ='März'!AJ8 | H7: ='April'!AI8 | I7: ='Mai'!AJ8 | J7: ='Juni'!AI8 | K7: ='Juli'!AJ8 | L7: ='August'!AJ8 | M7: ='September'!AI8 | N7: ='Oktober'!AJ8 | O7: ='November'!AI8 | P7: ='Dezember'!AJ8 | Q7: =IF(COUNT(E7:P7)=0,"",SUM(E7:P7))
E8: ='Januar'!AJ9 | F8: ='Februar'!AG9 | G8: ='März'!AJ9 | H8: ='April'!AI9 | I8: ='Mai'!AJ9 | J8: ='Juni'!AI9 | K8: ='Juli'!AJ9 | L8: ='August'!AJ9 | M8: ='September'!AI9 | N8: ='Oktober'!AJ9 | O8: ='November'!AI9 | P8: ='Dezember'!AJ9 | Q8: =IF(COUNT(E8:P8)=0,"",SUM(E8:P8))
E9: ='Januar'!AJ10 | F9: ='Februar'!AG10 | G9: ='März'!AJ10 | H9: ='April'!AI10 | I9: ='Mai'!AJ10 | J9: ='Juni'!AI10 | K9: ='Juli'!AJ10 | L9: ='August'!AJ10 | M9: ='September'!AI10 | N9: ='Oktober'!AJ10 | O9: ='November'!AI10 | P9: ='Dezember'!AJ10 | Q9: =IF(COUNT(E9:P9)=0,"",SUM(E9:P9))
E10: ='Januar'!AJ11 | F10: ='Februar'!AG11 | G10: ='März'!AJ11 | H10: ='April'!AI11 | I10: ='Mai'!AJ11 | J10: ='Juni'!AI11 | K10: ='Juli'!AJ11 | L10: ='August'!AJ11 | M10: ='September'!AI11 | N10: ='Oktober'!AJ11 | O10: ='November'!AI11 | P10: ='Dezember'!AJ11 | Q10: =IF(COUNT(E10:P10)=0,"",SUM(E10:P10))
E11: ='Januar'!AJ12 | F11: ='Februar'!AG12 | G11: ='März'!AJ12 | H11: ='April'!AI12 | I11: ='Mai'!AJ12 | J11: ='Juni'!AI12 | K11: ='Juli'!AJ12 | L11: ='August'!AJ12 | M11: ='September'!AI12 | N11: ='Oktober'!AJ12 | O11: ='November'!AI12 | P11: ='Dezember'!AJ12 | Q11: =IF(COUNT(E11:P11)=0,"",SUM(E11:P11))
E12: ='Januar'!AJ13 | F12: ='Februar'!AG13 | G12: ='März'!AJ13 | H12: ='April'!AI13 | I12: ='Mai'!AJ13 | J12: ='Juni'!AI13 | K12: ='Juli'!AJ13 | L12: ='August'!AJ13 | M12: ='September'!AI13 | N12: ='Oktober'!AJ13 | O12: ='November'!AI13 | P12: ='Dezember'!AJ13 | Q12: =IF(COUNT(E12:P12)=0,"",SUM(E12:P12))
E13: ='Januar'!AJ14 | F13: ='Februar'!AG14 | G13: ='März'!AJ14 | H13: ='April'!AI14 | I13: ='Mai'!AJ14 | J13: ='Juni'!AI14 | K13: ='Juli'!AJ14 | L13: ='August'!AJ14 | M13: ='September'!AI14 | N13: ='Oktober'!AJ14 | O13: ='November'!AI14 | P13: ='Dezember'!AJ14 | Q13: =IF(COUNT(E13:P13)=0,"",SUM(E13:P13))
E14: ='Januar'!AJ15 | F14: ='Februar'!AG15 | G14: ='März'!AJ15 | H14: ='April'!AI15 | I14: ='Mai'!AJ15 | J14: ='Juni'!AI15 | K14: ='Juli'!AJ15 | L14: ='August'!AJ15 | M14: ='September'!AI15 | N14: ='Oktober'!AJ15 | O14: ='November'!AI15 | P14: ='Dezember'!AJ15 | Q14: =IF(COUNT(E14:P14)=0,"",SUM(E14:P14))
E15: ='Januar'!AJ16 | F15: ='Februar'!AG16 | G15: ='März'!AJ16 | H15: ='April'!AI16 | I15: ='Mai'!AJ16 | J15: ='Juni'!AI16 | K15: ='Juli'!AJ16 | L15: ='August'!AJ16 | M15: ='September'!AI16 | N15: ='Oktober'!AJ16 | O15: ='November'!AI16 | P15: ='Dezember'!AJ16 | Q15: =IF(COUNT(E15:P15)=0,"",SUM(E15:P15))
E16: ='Januar'!AJ17 | F16: ='Februar'!AG17 | G16: ='März'!AJ17 | H16: ='April'!AI17 | I16: ='Mai'!AJ17 | J16: ='Juni'!AI17 | K16: ='Juli'!AJ17 | L16: ='August'!AJ17 | M16: ='September'!AI17 | N16: ='Oktober'!AJ17 | O16: ='November'!AI17 | P16: ='Dezember'!AJ17 | Q16: =IF(COUNT(E16:P16)=0,"",SUM(E16:P16))
E17: ='Januar'!AJ18 | F17: ='Februar'!AG18 | G17: ='März'!AJ18 | H17: ='April'!AI18 | I17: ='Mai'!AJ18 | J17: ='Juni'!AI18 | K17: ='Juli'!AJ18 | L17: ='August'!AJ18 | M17: ='September'!AI18 | N17: ='Oktober'!AJ18 | O17: ='November'!AI18 | P17: ='Dezember'!AJ18 | Q17: =IF(COUNT(E17:P17)=0,"",SUM(E17:P17))
... E20: ='Januar'!AJ21 | F20: ='Februar'!AG21 | G20: ='März'!AJ21 | H20: ='April'!AI21 | I20: ='Mai'!AJ21 | J20: ='Juni'!AI21 | K20: ='Juli'!AJ21 | L20: ='August'!AJ21 | M20: ='September'!AI21 | N20: ='Oktober'!AJ21 | O20: ='November'!AI21 | P20: ='Dezember'!AJ21 | Q20: =IF(COUNT(E20:P20)=0,"",SUM(E20:P20))
A22: Kostenlose Vorlage von www.crew-active.de/ressourcen/blog/dienstplan-vorlage-excel/

Sheet Schichten
A1: Kürzel | B1: Bezeichnung | C1: Beginn | D1: Ende | E1: Pause (Min.) | F1: Netto-Stunden
A2: F | B2: Frühschicht | C2: 06:00 | D2: 14:00 | E2: 30 | F2: 7.5
A3: S | B3: Spätschicht | C3: 14:00 | D3: 22:00 | E3: 30 | F3: 7.5
A4: N | B4: Nachtschicht | C4: 22:00 | D4: 06:00 | E4: 30 | F4: 7.5
A5: T | B5: Tagschicht | C5: 08:00 | D5: 16:30 | E5: 45 | F5: 7.75
A6: U | B6: Urlaub | E6: 0 | F6: 0
A7: K | B7: Krank | E7: 0 | F7: 0
A8: FR | B8: Frei | E8: 0 | F8: 0
A10: Passen Sie Zeiten, Pause und Netto-Stunden an Ihren Betrieb an. Die Ist-Stunden auf den Monatsblättern rechnen mit der Spalte Netto-Stunden. Auch Urlaub (U) und Krank (K) können Stunden zählen, wenn Sie sie hier eintragen. Die Kürzel selbst lassen Sie, wie sie sind: Die Auswahlliste kennt nur diese sieben.

Sheet Januar
A1: Dienstplan Januar 2027
A2: Pro Tag ein Schichtkürzel aus der Liste wählen: F Früh, S Spät, N Nacht, T Tag, U Urlaub, K Krank, FR Frei. Zeiten und Stunden stehen im Blatt „Schichten“, Namen und Soll-Stunden im Blatt „Team“. Grau: Samstag, Sonntag und bundesweite Feiertage.
D4: KW 53 | G4: KW 1 | N4: KW 2 | U4: KW 3 | AB4: KW 4
A5: Mitarbeiter/in | B5: Personalnr. | C5: Qualifikation | D5: 1 | E5: 2 | F5: 3 | G5: 4 | H5: 5 | I5: 6 | J5: 7 | K5: 8 | L5: 9 | M5: 10 | N5: 11 | O5: 12 | P5: 13 | Q5: 14 | R5: 15 | S5: 16 | T5: 17 | U5: 18 | V5: 19 | W5: 20 | X5: 21 | Y5: 22 | Z5: 23 | AA5: 24 | AB5: 25 | AC5: 26 | AD5: 27 | AE5: 28 | AF5: 29 | AG5: 30 | AH5: 31 | AI5: Soll-Std. | AJ5: Ist-Std. | AK5: Differenz
D6: Fr | E6: Sa | F6: So | G6: Mo | H6: Di | I6: Mi | J6: Do | K6: Fr | L6: Sa | M6: So | N6: Mo | O6: Di | P6: Mi | Q6: Do | R6: Fr | S6: Sa | T6: So | U6: Mo | V6: Di | W6: Mi | X6: Do | Y6: Fr | Z6: Sa | AA6: So | AB6: Mo | AC6: Di | AD6: Mi | AE6: Do | AF6: Fr | AG6: Sa | AH6: So
A7: =Team!$A$6&"" | B7: =Team!$B$6&"" | C7: =Team!$C$6&"" | AI7: =IF(Team!$D$6="","",Team!$D$6) | AJ7: =IF(AND($A7="",COUNTA(D7:AH7)=0),"",COUNTIF(D7:AH7,Schichten!$A$2)*Schichten!$F$2+COUNTIF(D7:AH7,Schichten!$A$3)*Schichten!$F$3+COUNTIF(D7:AH7,Schichten!$A$4)*Schichten!$F$4+COUNTIF(D7:AH7,Schichten!$A$5)*Schichten!$F$5+COUNTIF(D7:AH7,Schichten!$A$6)*Schichten!$F$6+COUNTIF(D7:AH7,Schichten!$A$7)*Schichten!$F$7+COUNTIF(D7:AH7,Schichten!$A$8)*Schichten!$F$8) | AK7: =IF(OR(AI7="",AJ7=""),"",AJ7-AI7)
A8: =Team!$A$7&"" | B8: =Team!$B$7&"" | C8: =Team!$C$7&"" | AI8: =IF(Team!$D$7="","",Team!$D$7) | AJ8: =IF(AND($A8="",COUNTA(D8:AH8)=0),"",COUNTIF(D8:AH8,Schichten!$A$2)*Schichten!$F$2+COUNTIF(D8:AH8,Schichten!$A$3)*Schichten!$F$3+COUNTIF(D8:AH8,Schichten!$A$4)*Schichten!$F$4+COUNTIF(D8:AH8,Schichten!$A$5)*Schichten!$F$5+COUNTIF(D8:AH8,Schichten!$A$6)*Schichten!$F$6+COUNTIF(D8:AH8,Schichten!$A$7)*Schichten!$F$7+COUNTIF(D8:AH8,Schichten!$A$8)*Schichten!$F$8) | AK8: =IF(OR(AI8="",AJ8=""),"",AJ8-AI8)
A9: =Team!$A$8&"" | B9: =Team!$B$8&"" | C9: =Team!$C$8&"" | AI9: =IF(Team!$D$8="","",Team!$D$8) | AJ9: =IF(AND($A9="",COUNTA(D9:AH9)=0),"",COUNTIF(D9:AH9,Schichten!$A$2)*Schichten!$F$2+COUNTIF(D9:AH9,Schichten!$A$3)*Schichten!$F$3+COUNTIF(D9:AH9,Schichten!$A$4)*Schichten!$F$4+COUNTIF(D9:AH9,Schichten!$A$5)*Schichten!$F$5+COUNTIF(D9:AH9,Schichten!$A$6)*Schichten!$F$6+COUNTIF(D9:AH9,Schichten!$A$7)*Schichten!$F$7+COUNTIF(D9:AH9,Schichten!$A$8)*Schichten!$F$8) | AK9: =IF(OR(AI9="",AJ9=""),"",AJ9-AI9)
A10: =Team!$A$9&"" | B10: =Team!$B$9&"" | C10: =Team!$C$9&"" | AI10: =IF(Team!$D$9="","",Team!$D$9) | AJ10: =IF(AND($A10="",COUNTA(D10:AH10)=0),"",COUNTIF(D10:AH10,Schichten!$A$2)*Schichten!$F$2+COUNTIF(D10:AH10,Schichten!$A$3)*Schichten!$F$3+COUNTIF(D10:AH10,Schichten!$A$4)*Schichten!$F$4+COUNTIF(D10:AH10,Schichten!$A$5)*Schichten!$F$5+COUNTIF(D10:AH10,Schichten!$A$6)*Schichten!$F$6+COUNTIF(D10:AH10,Schichten!$A$7)*Schichten!$F$7+COUNTIF(D10:AH10,Schichten!$A$8)*Schichten!$F$8) | AK10: =IF(OR(AI10="",AJ10=""),"",AJ10-AI10)
A11: =Team!$A$10&"" | B11: =Team!$B$10&"" | C11: =Team!$C$10&"" | AI11: =IF(Team!$D$10="","",Team!$D$10) | AJ11: =IF(AND($A11="",COUNTA(D11:AH11)=0),"",COUNTIF(D11:AH11,Schichten!$A$2)*Schichten!$F$2+COUNTIF(D11:AH11,Schichten!$A$3)*Schichten!$F$3+COUNTIF(D11:AH11,Schichten!$A$4)*Schichten!$F$4+COUNTIF(D11:AH11,Schichten!$A$5)*Schichten!$F$5+COUNTIF(D11:AH11,Schichten!$A$6)*Schichten!$F$6+COUNTIF(D11:AH11,Schichten!$A$7)*Schichten!$F$7+COUNTIF(D11:AH11,Schichten!$A$8)*Schichten!$F$8) | AK11: =IF(OR(AI11="",AJ11=""),"",AJ11-AI11)
A12: =Team!$A$11&"" | B12: =Team!$B$11&"" | C12: =Team!$C$11&"" | AI12: =IF(Team!$D$11="","",Team!$D$11) | AJ12: =IF(AND($A12="",COUNTA(D12:AH12)=0),"",COUNTIF(D12:AH12,Schichten!$A$2)*Schichten!$F$2+COUNTIF(D12:AH12,Schichten!$A$3)*Schichten!$F$3+COUNTIF(D12:AH12,Schichten!$A$4)*Schichten!$F$4+COUNTIF(D12:AH12,Schichten!$A$5)*Schichten!$F$5+COUNTIF(D12:AH12,Schichten!$A$6)*Schichten!$F$6+COUNTIF(D12:AH12,Schichten!$A$7)*Schichten!$F$7+COUNTIF(D12:AH12,Schichten!$A$8)*Schichten!$F$8) | AK12: =IF(OR(AI12="",AJ12=""),"",AJ12-AI12)
A13: =Team!$A$12&"" | B13: =Team!$B$12&"" | C13: =Team!$C$12&"" | AI13: =IF(Team!$D$12="","",Team!$D$12) | AJ13: =IF(AND($A13="",COUNTA(D13:AH13)=0),"",COUNTIF(D13:AH13,Schichten!$A$2)*Schichten!$F$2+COUNTIF(D13:AH13,Schichten!$A$3)*Schichten!$F$3+COUNTIF(D13:AH13,Schichten!$A$4)*Schichten!$F$4+COUNTIF(D13:AH13,Schichten!$A$5)*Schichten!$F$5+COUNTIF(D13:AH13,Schichten!$A$6)*Schichten!$F$6+COUNTIF(D13:AH13,Schichten!$A$7)*Schichten!$F$7+COUNTIF(D13:AH13,Schichten!$A$8)*Schichten!$F$8) | AK13: =IF(OR(AI13="",AJ13=""),"",AJ13-AI13)
A14: =Team!$A$13&"" | B14: =Team!$B$13&"" | C14: =Team!$C$13&"" | AI14: =IF(Team!$D$13="","",Team!$D$13) | AJ14: =IF(AND($A14="",COUNTA(D14:AH14)=0),"",COUNTIF(D14:AH14,Schichten!$A$2)*Schichten!$F$2+COUNTIF(D14:AH14,Schichten!$A$3)*Schichten!$F$3+COUNTIF(D14:AH14,Schichten!$A$4)*Schichten!$F$4+COUNTIF(D14:AH14,Schichten!$A$5)*Schichten!$F$5+COUNTIF(D14:AH14,Schichten!$A$6)*Schichten!$F$6+COUNTIF(D14:AH14,Schichten!$A$7)*Schichten!$F$7+COUNTIF(D14:AH14,Schichten!$A$8)*Schichten!$F$8) | AK14: =IF(OR(AI14="",AJ14=""),"",AJ14-AI14)
A15: =Team!$A$14&"" | B15: =Team!$B$14&"" | C15: =Team!$C$14&"" | AI15: =IF(Team!$D$14="","",Team!$D$14) | AJ15: =IF(AND($A15="",COUNTA(D15:AH15)=0),"",COUNTIF(D15:AH15,Schichten!$A$2)*Schichten!$F$2+COUNTIF(D15:AH15,Schichten!$A$3)*Schichten!$F$3+COUNTIF(D15:AH15,Schichten!$A$4)*Schichten!$F$4+COUNTIF(D15:AH15,Schichten!$A$5)*Schichten!$F$5+COUNTIF(D15:AH15,Schichten!$A$6)*Schichten!$F$6+COUNTIF(D15:AH15,Schichten!$A$7)*Schichten!$F$7+COUNTIF(D15:AH15,Schichten!$A$8)*Schichten!$F$8) | AK15: =IF(OR(AI15="",AJ15=""),"",AJ15-AI15)
A16: =Team!$A$15&"" | B16: =Team!$B$15&"" | C16: =Team!$C$15&"" | AI16: =IF(Team!$D$15="","",Team!$D$15) | AJ16: =IF(AND($A16="",COUNTA(D16:AH16)=0),"",COUNTIF(D16:AH16,Schichten!$A$2)*Schichten!$F$2+COUNTIF(D16:AH16,Schichten!$A$3)*Schichten!$F$3+COUNTIF(D16:AH16,Schichten!$A$4)*Schichten!$F$4+COUNTIF(D16:AH16,Schichten!$A$5)*Schichten!$F$5+COUNTIF(D16:AH16,Schichten!$A$6)*Schichten!$F$6+COUNTIF(D16:AH16,Schichten!$A$7)*Schichten!$F$7+COUNTIF(D16:AH16,Schichten!$A$8)*Schichten!$F$8) | AK16: =IF(OR(AI16="",AJ16=""),"",AJ16-AI16)
A17: =Team!$A$16&"" | B17: =Team!$B$16&"" | C17: =Team!$C$16&"" | AI17: =IF(Team!$D$16="","",Team!$D$16) | AJ17: =IF(AND($A17="",COUNTA(D17:AH17)=0),"",COUNTIF(D17:AH17,Schichten!$A$2)*Schichten!$F$2+COUNTIF(D17:AH17,Schichten!$A$3)*Schichten!$F$3+COUNTIF(D17:AH17,Schichten!$A$4)*Schichten!$F$4+COUNTIF(D17:AH17,Schichten!$A$5)*Schichten!$F$5+COUNTIF(D17:AH17,Schichten!$A$6)*Schichten!$F$6+COUNTIF(D17:AH17,Schichten!$A$7)*Schichten!$F$7+COUNTIF(D17:AH17,Schichten!$A$8)*Schichten!$F$8) | AK17: =IF(OR(AI17="",AJ17=""),"",AJ17-AI17)
A18: =Team!$A$17&"" | B18: =Team!$B$17&"" | C18: =Team!$C$17&"" | AI18: =IF(Team!$D$17="","",Team!$D$17) | AJ18: =IF(AND($A18="",COUNTA(D18:AH18)=0),"",COUNTIF(D18:AH18,Schichten!$A$2)*Schichten!$F$2+COUNTIF(D18:AH18,Schichten!$A$3)*Schichten!$F$3+COUNTIF(D18:AH18,Schichten!$A$4)*Schichten!$F$4+COUNTIF(D18:AH18,Schichten!$A$5)*Schichten!$F$5+COUNTIF(D18:AH18,Schichten!$A$6)*Schichten!$F$6+COUNTIF(D18:AH18,Schichten!$A$7)*Schichten!$F$7+COUNTIF(D18:AH18,Schichten!$A$8)*Schichten!$F$8) | AK18: =IF(OR(AI18="",AJ18=""),"",AJ18-AI18)
A19: =Team!$A$18&"" | B19: =Team!$B$18&"" | C19: =Team!$C$18&"" | AI19: =IF(Team!$D$18="","",Team!$D$18) | AJ19: =IF(AND($A19="",COUNTA(D19:AH19)=0),"",COUNTIF(D19:AH19,Schichten!$A$2)*Schichten!$F$2+COUNTIF(D19:AH19,Schichten!$A$3)*Schichten!$F$3+COUNTIF(D19:AH19,Schichten!$A$4)*Schichten!$F$4+COUNTIF(D19:AH19,Schichten!$A$5)*Schichten!$F$5+COUNTIF(D19:AH19,Schichten!$A$6)*Schichten!$F$6+COUNTIF(D19:AH19,Schichten!$A$7)*Schichten!$F$7+COUNTIF(D19:AH19,Schichten!$A$8)*Schichten!$F$8) | AK19: =IF(OR(AI19="",AJ19=""),"",AJ19-AI19)
A20: =Team!$A$19&"" | B20: =Team!$B$19&"" | C20: =Team!$C$19&"" | AI20: =IF(Team!$D$19="","",Team!$D$19) | AJ20: =IF(AND($A20="",COUNTA(D20:AH20)=0),"",COUNTIF(D20:AH20,Schichten!$A$2)*Schichten!$F$2+COUNTIF(D20:AH20,Schichten!$A$3)*Schichten!$F$3+COUNTIF(D20:AH20,Schichten!$A$4)*Schichten!$F$4+COUNTIF(D20:AH20,Schichten!$A$5)*Schichten!$F$5+COUNTIF(D20:AH20,Schichten!$A$6)*Schichten!$F$6+COUNTIF(D20:AH20,Schichten!$A$7)*Schichten!$F$7+COUNTIF(D20:AH20,Schichten!$A$8)*Schichten!$F$8) | AK20: =IF(OR(AI20="",AJ20=""),"",AJ20-AI20)
A21: =Team!$A$20&"" | B21: =Team!$B$20&"" | C21: =Team!$C$20&"" | AI21: =IF(Team!$D$20="","",Team!$D$20) | AJ21: =IF(AND($A21="",COUNTA(D21:AH21)=0),"",COUNTIF(D21:AH21,Schichten!$A$2)*Schichten!$F$2+COUNTIF(D21:AH21,Schichten!$A$3)*Schichten!$F$3+COUNTIF(D21:AH21,Schichten!$A$4)*Schichten!$F$4+COUNTIF(D21:AH21,Schichten!$A$5)*Schichten!$F$5+COUNTIF(D21:AH21,Schichten!$A$6)*Schichten!$F$6+COUNTIF(D21:AH21,Schichten!$A$7)*Schichten!$F$7+COUNTIF(D21:AH21,Schichten!$A$8)*Schichten!$F$8) | AK21: =IF(OR(AI21="",AJ21=""),"",AJ21-AI21)
A23: Bundesweite Feiertage im Januar 2027: Fr 01.01. Neujahr
A24: Nur in einigen Bundesländern, im Plan nicht markiert: Mi 06.01. Heilige Drei Könige (BW, BY, ST)
A26: Kostenlose Vorlage von www.crew-active.de/ressourcen/blog/dienstplan-vorlage-excel/

Sheet Februar
A1: Dienstplan Februar 2027
A2: Pro Tag ein Schichtkürzel aus der Liste wählen: F Früh, S Spät, N Nacht, T Tag, U Urlaub, K Krank, FR Frei. Zeiten und Stunden stehen im Blatt „Schichten“, Namen und Soll-Stunden im Blatt „Team“. Grau: Samstag, Sonntag und bundesweite Feiertage.
D4: KW 5 | K4: KW 6 | R4: KW 7 | Y4: KW 8
A5: Mitarbeiter/in | B5: Personalnr. | C5: Qualifikation | D5: 1 | E5: 2 | F5: 3 | G5: 4 | H5: 5 | I5: 6 | J5: 7 | K5: 8 | L5: 9 | M5: 10 | N5: 11 | O5: 12 | P5: 13 | Q5: 14 | R5: 15 | S5: 16 | T5: 17 | U5: 18 | V5: 19 | W5: 20 | X5: 21 | Y5: 22 | Z5: 23 | AA5: 24 | AB5: 25 | AC5: 26 | AD5: 27 | AE5: 28 | AF5: Soll-Std. | AG5: Ist-Std. | AH5: Differenz
D6: Mo | E6: Di | F6: Mi | G6: Do | H6: Fr | I6: Sa | J6: So | K6: Mo | L6: Di | M6: Mi | N6: Do | O6: Fr | P6: Sa | Q6: So | R6: Mo | S6: Di | T6: Mi | U6: Do | V6: Fr | W6: Sa | X6: So | Y6: Mo | Z6: Di | AA6: Mi | AB6: Do | AC6: Fr | AD6: Sa | AE6: So
A7: =Team!$A$6&"" | B7: =Team!$B$6&"" | C7: =Team!$C$6&"" | AF7: =IF(Team!$D$6="","",Team!$D$6) | AG7: =IF(AND($A7="",COUNTA(D7:AE7)=0),"",COUNTIF(D7:AE7,Schichten!$A$2)*Schichten!$F$2+COUNTIF(D7:AE7,Schichten!$A$3)*Schichten!$F$3+COUNTIF(D7:AE7,Schichten!$A$4)*Schichten!$F$4+COUNTIF(D7:AE7,Schichten!$A$5)*Schichten!$F$5+COUNTIF(D7:AE7,Schichten!$A$6)*Schichten!$F$6+COUNTIF(D7:AE7,Schichten!$A$7)*Schichten!$F$7+COUNTIF(D7:AE7,Schichten!$A$8)*Schichten!$F$8) | AH7: =IF(OR(AF7="",AG7=""),"",AG7-AF7)
A8: =Team!$A$7&"" | B8: =Team!$B$7&"" | C8: =Team!$C$7&"" | AF8: =IF(Team!$D$7="","",Team!$D$7) | AG8: =IF(AND($A8="",COUNTA(D8:AE8)=0),"",COUNTIF(D8:AE8,Schichten!$A$2)*Schichten!$F$2+COUNTIF(D8:AE8,Schichten!$A$3)*Schichten!$F$3+COUNTIF(D8:AE8,Schichten!$A$4)*Schichten!$F$4+COUNTIF(D8:AE8,Schichten!$A$5)*Schichten!$F$5+COUNTIF(D8:AE8,Schichten!$A$6)*Schichten!$F$6+COUNTIF(D8:AE8,Schichten!$A$7)*Schichten!$F$7+COUNTIF(D8:AE8,Schichten!$A$8)*Schichten!$F$8) | AH8: =IF(OR(AF8="",AG8=""),"",AG8-AF8)
A9: =Team!$A$8&"" | B9: =Team!$B$8&"" | C9: =Team!$C$8&"" | AF9: =IF(Team!$D$8="","",Team!$D$8) | AG9: =IF(AND($A9="",COUNTA(D9:AE9)=0),"",COUNTIF(D9:AE9,Schichten!$A$2)*Schichten!$F$2+COUNTIF(D9:AE9,Schichten!$A$3)*Schichten!$F$3+COUNTIF(D9:AE9,Schichten!$A$4)*Schichten!$F$4+COUNTIF(D9:AE9,Schichten!$A$5)*Schichten!$F$5+COUNTIF(D9:AE9,Schichten!$A$6)*Schichten!$F$6+COUNTIF(D9:AE9,Schichten!$A$7)*Schichten!$F$7+COUNTIF(D9:AE9,Schichten!$A$8)*Schichten!$F$8) | AH9: =IF(OR(AF9="",AG9=""),"",AG9-AF9)
A10: =Team!$A$9&"" | B10: =Team!$B$9&"" | C10: =Team!$C$9&"" | AF10: =IF(Team!$D$9="","",Team!$D$9) | AG10: =IF(AND($A10="",COUNTA(D10:AE10)=0),"",COUNTIF(D10:AE10,Schichten!$A$2)*Schichten!$F$2+COUNTIF(D10:AE10,Schichten!$A$3)*Schichten!$F$3+COUNTIF(D10:AE10,Schichten!$A$4)*Schichten!$F$4+COUNTIF(D10:AE10,Schichten!$A$5)*Schichten!$F$5+COUNTIF(D10:AE10,Schichten!$A$6)*Schichten!$F$6+COUNTIF(D10:AE10,Schichten!$A$7)*Schichten!$F$7+COUNTIF(D10:AE10,Schichten!$A$8)*Schichten!$F$8) | AH10: =IF(OR(AF10="",AG10=""),"",AG10-AF10)
A11: =Team!$A$10&"" | B11: =Team!$B$10&"" | C11: =Team!$C$10&"" | AF11: =IF(Team!$D$10="","",Team!$D$10) | AG11: =IF(AND($A11="",COUNTA(D11:AE11)=0),"",COUNTIF(D11:AE11,Schichten!$A$2)*Schichten!$F$2+COUNTIF(D11:AE11,Schichten!$A$3)*Schichten!$F$3+COUNTIF(D11:AE11,Schichten!$A$4)*Schichten!$F$4+COUNTIF(D11:AE11,Schichten!$A$5)*Schichten!$F$5+COUNTIF(D11:AE11,Schichten!$A$6)*Schichten!$F$6+COUNTIF(D11:AE11,Schichten!$A$7)*Schichten!$F$7+COUNTIF(D11:AE11,Schichten!$A$8)*Schichten!$F$8) | AH11: =IF(OR(AF11="",AG11=""),"",AG11-AF11)
A12: =Team!$A$11&"" | B12: =Team!$B$11&"" | C12: =Team!$C$11&"" | AF12: =IF(Team!$D$11="","",Team!$D$11) | AG12: =IF(AND($A12="",COUNTA(D12:AE12)=0),"",COUNTIF(D12:AE12,Schichten!$A$2)*Schichten!$F$2+COUNTIF(D12:AE12,Schichten!$A$3)*Schichten!$F$3+COUNTIF(D12:AE12,Schichten!$A$4)*Schichten!$F$4+COUNTIF(D12:AE12,Schichten!$A$5)*Schichten!$F$5+COUNTIF(D12:AE12,Schichten!$A$6)*Schichten!$F$6+COUNTIF(D12:AE12,Schichten!$A$7)*Schichten!$F$7+COUNTIF(D12:AE12,Schichten!$A$8)*Schichten!$F$8) | AH12: =IF(OR(AF12="",AG12=""),"",AG12-AF12)
A13: =Team!$A$12&"" | B13: =Team!$B$12&"" | C13: =Team!$C$12&"" | AF13: =IF(Team!$D$12="","",Team!$D$12) | AG13: =IF(AND($A13="",COUNTA(D13:AE13)=0),"",COUNTIF(D13:AE13,Schichten!$A$2)*Schichten!$F$2+COUNTIF(D13:AE13,Schichten!$A$3)*Schichten!$F$3+COUNTIF(D13:AE13,Schichten!$A$4)*Schichten!$F$4+COUNTIF(D13:AE13,Schichten!$A$5)*Schichten!$F$5+COUNTIF(D13:AE13,Schichten!$A$6)*Schichten!$F$6+COUNTIF(D13:AE13,Schichten!$A$7)*Schichten!$F$7+COUNTIF(D13:AE13,Schichten!$A$8)*Schichten!$F$8) | AH13: =IF(OR(AF13="",AG13=""),"",AG13-AF13)
A14: =Team!$A$13&"" | B14: =Team!$B$13&"" | C14: =Team!$C$13&"" | AF14: =IF(Team!$D$13="","",Team!$D$13) | AG14: =IF(AND($A14="",COUNTA(D14:AE14)=0),"",COUNTIF(D14:AE14,Schichten!$A$2)*Schichten!$F$2+COUNTIF(D14:AE14,Schichten!$A$3)*Schichten!$F$3+COUNTIF(D14:AE14,Schichten!$A$4)*Schichten!$F$4+COUNTIF(D14:AE14,Schichten!$A$5)*Schichten!$F$5+COUNTIF(D14:AE14,Schichten!$A$6)*Schichten!$F$6+COUNTIF(D14:AE14,Schichten!$A$7)*Schichten!$F$7+COUNTIF(D14:AE14,Schichten!$A$8)*Schichten!$F$8) | AH14: =IF(OR(AF14="",AG14=""),"",AG14-AF14)
A15: =Team!$A$14&"" | B15: =Team!$B$14&"" | C15: =Team!$C$14&"" | AF15: =IF(Team!$D$14="","",Team!$D$14) | AG15: =IF(AND($A15="",COUNTA(D15:AE15)=0),"",COUNTIF(D15:AE15,Schichten!$A$2)*Schichten!$F$2+COUNTIF(D15:AE15,Schichten!$A$3)*Schichten!$F$3+COUNTIF(D15:AE15,Schichten!$A$4)*Schichten!$F$4+COUNTIF(D15:AE15,Schichten!$A$5)*Schichten!$F$5+COUNTIF(D15:AE15,Schichten!$A$6)*Schichten!$F$6+COUNTIF(D15:AE15,Schichten!$A$7)*Schichten!$F$7+COUNTIF(D15:AE15,Schichten!$A$8)*Schichten!$F$8) | AH15: =IF(OR(AF15="",AG15=""),"",AG15-AF15)
A16: =Team!$A$15&"" | B16: =Team!$B$15&"" | C16: =Team!$C$15&"" | AF16: =IF(Team!$D$15="","",Team!$D$15) | AG16: =IF(AND($A16="",COUNTA(D16:AE16)=0),"",COUNTIF(D16:AE16,Schichten!$A$2)*Schichten!$F$2+COUNTIF(D16:AE16,Schichten!$A$3)*Schichten!$F$3+COUNTIF(D16:AE16,Schichten!$A$4)*Schichten!$F$4+COUNTIF(D16:AE16,Schichten!$A$5)*Schichten!$F$5+COUNTIF(D16:AE16,Schichten!$A$6)*Schichten!$F$6+COUNTIF(D16:AE16,Schichten!$A$7)*Schichten!$F$7+COUNTIF(D16:AE16,Schichten!$A$8)*Schichten!$F$8) | AH16: =IF(OR(AF16="",AG16=""),"",AG16-AF16)
A17: =Team!$A$16&"" | B17: =Team!$B$16&"" | C17: =Team!$C$16&"" | AF17: =IF(Team!$D$16="","",Team!$D$16) | AG17: =IF(AND($A17="",COUNTA(D17:AE17)=0),"",COUNTIF(D17:AE17,Schichten!$A$2)*Schichten!$F$2+COUNTIF(D17:AE17,Schichten!$A$3)*Schichten!$F$3+COUNTIF(D17:AE17,Schichten!$A$4)*Schichten!$F$4+COUNTIF(D17:AE17,Schichten!$A$5)*Schichten!$F$5+COUNTIF(D17:AE17,Schichten!$A$6)*Schichten!$F$6+COUNTIF(D17:AE17,Schichten!$A$7)*Schichten!$F$7+COUNTIF(D17:AE17,Schichten!$A$8)*Schichten!$F$8) | AH17: =IF(OR(AF17="",AG17=""),"",AG17-AF17)
A18: =Team!$A$17&"" | B18: =Team!$B$17&"" | C18: =Team!$C$17&"" | AF18: =IF(Team!$D$17="","",Team!$D$17) | AG18: =IF(AND($A18="",COUNTA(D18:AE18)=0),"",COUNTIF(D18:AE18,Schichten!$A$2)*Schichten!$F$2+COUNTIF(D18:AE18,Schichten!$A$3)*Schichten!$F$3+COUNTIF(D18:AE18,Schichten!$A$4)*Schichten!$F$4+COUNTIF(D18:AE18,Schichten!$A$5)*Schichten!$F$5+COUNTIF(D18:AE18,Schichten!$A$6)*Schichten!$F$6+COUNTIF(D18:AE18,Schichten!$A$7)*Schichten!$F$7+COUNTIF(D18:AE18,Schichten!$A$8)*Schichten!$F$8) | AH18: =IF(OR(AF18="",AG18=""),"",AG18-AF18)
A19: =Team!$A$18&"" | B19: =Team!$B$18&"" | C19: =Team!$C$18&"" | AF19: =IF(Team!$D$18="","",Team!$D$18) | AG19: =IF(AND($A19="",COUNTA(D19:AE19)=0),"",COUNTIF(D19:AE19,Schichten!$A$2)*Schichten!$F$2+COUNTIF(D19:AE19,Schichten!$A$3)*Schichten!$F$3+COUNTIF(D19:AE19,Schichten!$A$4)*Schichten!$F$4+COUNTIF(D19:AE19,Schichten!$A$5)*Schichten!$F$5+COUNTIF(D19:AE19,Schichten!$A$6)*Schichten!$F$6+COUNTIF(D19:AE19,Schichten!$A$7)*Schichten!$F$7+COUNTIF(D19:AE19,Schichten!$A$8)*Schichten!$F$8) | AH19: =IF(OR(AF19="",AG19=""),"",AG19-AF19)
A20: =Team!$A$19&"" | B20: =Team!$B$19&"" | C20: =Team!$C$19&"" | AF20: =IF(Team!$D$19="","",Team!$D$19) | AG20: =IF(AND($A20="",COUNTA(D20:AE20)=0),"",COUNTIF(D20:AE20,Schichten!$A$2)*Schichten!$F$2+COUNTIF(D20:AE20,Schichten!$A$3)*Schichten!$F$3+COUNTIF(D20:AE20,Schichten!$A$4)*Schichten!$F$4+COUNTIF(D20:AE20,Schichten!$A$5)*Schichten!$F$5+COUNTIF(D20:AE20,Schichten!$A$6)*Schichten!$F$6+COUNTIF(D20:AE20,Schichten!$A$7)*Schichten!$F$7+COUNTIF(D20:AE20,Schichten!$A$8)*Schichten!$F$8) | AH20: =IF(OR(AF20="",AG20=""),"",AG20-AF20)
A21: =Team!$A$20&"" | B21: =Team!$B$20&"" | C21: =Team!$C$20&"" | AF21: =IF(Team!$D$20="","",Team!$D$20) | AG21: =IF(AND($A21="",COUNTA(D21:AE21)=0),"",COUNTIF(D21:AE21,Schichten!$A$2)*Schichten!$F$2+COUNTIF(D21:AE21,Schichten!$A$3)*Schichten!$F$3+COUNTIF(D21:AE21,Schichten!$A$4)*Schichten!$F$4+COUNTIF(D21:AE21,Schichten!$A$5)*Schichten!$F$5+COUNTIF(D21:AE21,Schichten!$A$6)*Schichten!$F$6+COUNTIF(D21:AE21,Schichten!$A$7)*Schichten!$F$7+COUNTIF(D21:AE21,Schichten!$A$8)*Schichten!$F$8) | AH21: =IF(OR(AF21="",AG21=""),"",AG21-AF21)
A23: Keine bundesweiten Feiertage im Februar 2027.
A25: Kostenlose Vorlage von www.crew-active.de/ressourcen/blog/dienstplan-vorlage-excel/

Sheet März
A1: Dienstplan März 2027
A2: Pro Tag ein Schichtkürzel aus der Liste wählen: F Früh, S Spät, N Nacht, T Tag, U Urlaub, K Krank, FR Frei. Zeiten und Stunden stehen im Blatt „Schichten“, Namen und Soll-Stunden im Blatt „Team“. Grau: Samstag, Sonntag und bundesweite Feiertage.
D4: KW 9 | K4: KW 10 | R4: KW 11 | Y4: KW 12 | AF4: KW 13
A5: Mitarbeiter/in | B5: Personalnr. | C5: Qualifikation | D5: 1 | E5: 2 | F5: 3 | G5: 4 | H5: 5 | I5: 6 | J5: 7 | K5: 8 | L5: 9 | M5: 10 | N5: 11 | O5: 12 | P5: 13 | Q5: 14 | R5: 15 | S5: 16 | T5: 17 | U5: 18 | V5: 19 | W5: 20 | X5: 21 | Y5: 22 | Z5: 23 | AA5: 24 | AB5: 25 | AC5: 26 | AD5: 27 | AE5: 28 | AF5: 29 | AG5: 30 | AH5: 31 | AI5: Soll-Std. | AJ5: Ist-Std. | AK5: Differenz
D6: Mo | E6: Di | F6: Mi | G6: Do | H6: Fr | I6: Sa | J6: So | K6: Mo | L6: Di | M6: Mi | N6: Do | O6: Fr | P6: Sa | Q6: So | R6: Mo | S6: Di | T6: Mi | U6: Do | V6: Fr | W6: Sa | X6: So | Y6: Mo | Z6: Di | AA6: Mi | AB6: Do | AC6: Fr | AD6: Sa | AE6: So | AF6: Mo | AG6: Di | AH6: Mi
A7: =Team!$A$6&"" | B7: =Team!$B$6&"" | C7: =Team!$C$6&"" | AI7: =IF(Team!$D$6="","",Team!$D$6) | AJ7: =IF(AND($A7="",COUNTA(D7:AH7)=0),"",COUNTIF(D7:AH7,Schichten!$A$2)*Schichten!$F$2+COUNTIF(D7:AH7,Schichten!$A$3)*Schichten!$F$3+COUNTIF(D7:AH7,Schichten!$A$4)*Schichten!$F$4+COUNTIF(D7:AH7,Schichten!$A$5)*Schichten!$F$5+COUNTIF(D7:AH7,Schichten!$A$6)*Schichten!$F$6+COUNTIF(D7:AH7,Schichten!$A$7)*Schichten!$F$7+COUNTIF(D7:AH7,Schichten!$A$8)*Schichten!$F$8) | AK7: =IF(OR(AI7="",AJ7=""),"",AJ7-AI7)
A8: =Team!$A$7&"" | B8: =Team!$B$7&"" | C8: =Team!$C$7&"" | AI8: =IF(Team!$D$7="","",Team!$D$7) | AJ8: =IF(AND($A8="",COUNTA(D8:AH8)=0),"",COUNTIF(D8:AH8,Schichten!$A$2)*Schichten!$F$2+COUNTIF(D8:AH8,Schichten!$A$3)*Schichten!$F$3+COUNTIF(D8:AH8,Schichten!$A$4)*Schichten!$F$4+COUNTIF(D8:AH8,Schichten!$A$5)*Schichten!$F$5+COUNTIF(D8:AH8,Schichten!$A$6)*Schichten!$F$6+COUNTIF(D8:AH8,Schichten!$A$7)*Schichten!$F$7+COUNTIF(D8:AH8,Schichten!$A$8)*Schichten!$F$8) | AK8: =IF(OR(AI8="",AJ8=""),"",AJ8-AI8)
A9: =Team!$A$8&"" | B9: =Team!$B$8&"" | C9: =Team!$C$8&"" | AI9: =IF(Team!$D$8="","",Team!$D$8) | AJ9: =IF(AND($A9="",COUNTA(D9:AH9)=0),"",COUNTIF(D9:AH9,Schichten!$A$2)*Schichten!$F$2+COUNTIF(D9:AH9,Schichten!$A$3)*Schichten!$F$3+COUNTIF(D9:AH9,Schichten!$A$4)*Schichten!$F$4+COUNTIF(D9:AH9,Schichten!$A$5)*Schichten!$F$5+COUNTIF(D9:AH9,Schichten!$A$6)*Schichten!$F$6+COUNTIF(D9:AH9,Schichten!$A$7)*Schichten!$F$7+COUNTIF(D9:AH9,Schichten!$A$8)*Schichten!$F$8) | AK9: =IF(OR(AI9="",AJ9=""),"",AJ9-AI9)
A10: =Team!$A$9&"" | B10: =Team!$B$9&"" | C10: =Team!$C$9&"" | AI10: =IF(Team!$D$9="","",Team!$D$9) | AJ10: =IF(AND($A10="",COUNTA(D10:AH10)=0),"",COUNTIF(D10:AH10,Schichten!$A$2)*Schichten!$F$2+COUNTIF(D10:AH10,Schichten!$A$3)*Schichten!$F$3+COUNTIF(D10:AH10,Schichten!$A$4)*Schichten!$F$4+COUNTIF(D10:AH10,Schichten!$A$5)*Schichten!$F$5+COUNTIF(D10:AH10,Schichten!$A$6)*Schichten!$F$6+COUNTIF(D10:AH10,Schichten!$A$7)*Schichten!$F$7+COUNTIF(D10:AH10,Schichten!$A$8)*Schichten!$F$8) | AK10: =IF(OR(AI10="",AJ10=""),"",AJ10-AI10)
A11: =Team!$A$10&"" | B11: =Team!$B$10&"" | C11: =Team!$C$10&"" | AI11: =IF(Team!$D$10="","",Team!$D$10) | AJ11: =IF(AND($A11="",COUNTA(D11:AH11)=0),"",COUNTIF(D11:AH11,Schichten!$A$2)*Schichten!$F$2+COUNTIF(D11:AH11,Schichten!$A$3)*Schichten!$F$3+COUNTIF(D11:AH11,Schichten!$A$4)*Schichten!$F$4+COUNTIF(D11:AH11,Schichten!$A$5)*Schichten!$F$5+COUNTIF(D11:AH11,Schichten!$A$6)*Schichten!$F$6+COUNTIF(D11:AH11,Schichten!$A$7)*Schichten!$F$7+COUNTIF(D11:AH11,Schichten!$A$8)*Schichten!$F$8) | AK11: =IF(OR(AI11="",AJ11=""),"",AJ11-AI11)
A12: =Team!$A$11&"" | B12: =Team!$B$11&"" | C12: =Team!$C$11&"" | AI12: =IF(Team!$D$11="","",Team!$D$11) | AJ12: =IF(AND($A12="",COUNTA(D12:AH12)=0),"",COUNTIF(D12:AH12,Schichten!$A$2)*Schichten!$F$2+COUNTIF(D12:AH12,Schichten!$A$3)*Schichten!$F$3+COUNTIF(D12:AH12,Schichten!$A$4)*Schichten!$F$4+COUNTIF(D12:AH12,Schichten!$A$5)*Schichten!$F$5+COUNTIF(D12:AH12,Schichten!$A$6)*Schichten!$F$6+COUNTIF(D12:AH12,Schichten!$A$7)*Schichten!$F$7+COUNTIF(D12:AH12,Schichten!$A$8)*Schichten!$F$8) | AK12: =IF(OR(AI12="",AJ12=""),"",AJ12-AI12)
A13: =Team!$A$12&"" | B13: =Team!$B$12&"" | C13: =Team!$C$12&"" | AI13: =IF(Team!$D$12="","",Team!$D$12) | AJ13: =IF(AND($A13="",COUNTA(D13:AH13)=0),"",COUNTIF(D13:AH13,Schichten!$A$2)*Schichten!$F$2+COUNTIF(D13:AH13,Schichten!$A$3)*Schichten!$F$3+COUNTIF(D13:AH13,Schichten!$A$4)*Schichten!$F$4+COUNTIF(D13:AH13,Schichten!$A$5)*Schichten!$F$5+COUNTIF(D13:AH13,Schichten!$A$6)*Schichten!$F$6+COUNTIF(D13:AH13,Schichten!$A$7)*Schichten!$F$7+COUNTIF(D13:AH13,Schichten!$A$8)*Schichten!$F$8) | AK13: =IF(OR(AI13="",AJ13=""),"",AJ13-AI13)
A14: =Team!$A$13&"" | B14: =Team!$B$13&"" | C14: =Team!$C$13&"" | AI14: =IF(Team!$D$13="","",Team!$D$13) | AJ14: =IF(AND($A14="",COUNTA(D14:AH14)=0),"",COUNTIF(D14:AH14,Schichten!$A$2)*Schichten!$F$2+COUNTIF(D14:AH14,Schichten!$A$3)*Schichten!$F$3+COUNTIF(D14:AH14,Schichten!$A$4)*Schichten!$F$4+COUNTIF(D14:AH14,Schichten!$A$5)*Schichten!$F$5+COUNTIF(D14:AH14,Schichten!$A$6)*Schichten!$F$6+COUNTIF(D14:AH14,Schichten!$A$7)*Schichten!$F$7+COUNTIF(D14:AH14,Schichten!$A$8)*Schichten!$F$8) | AK14: =IF(OR(AI14="",AJ14=""),"",AJ14-AI14)
A15: =Team!$A$14&"" | B15: =Team!$B$14&"" | C15: =Team!$C$14&"" | AI15: =IF(Team!$D$14="","",Team!$D$14) | AJ15: =IF(AND($A15="",COUNTA(D15:AH15)=0),"",COUNTIF(D15:AH15,Schichten!$A$2)*Schichten!$F$2+COUNTIF(D15:AH15,Schichten!$A$3)*Schichten!$F$3+COUNTIF(D15:AH15,Schichten!$A$4)*Schichten!$F$4+COUNTIF(D15:AH15,Schichten!$A$5)*Schichten!$F$5+COUNTIF(D15:AH15,Schichten!$A$6)*Schichten!$F$6+COUNTIF(D15:AH15,Schichten!$A$7)*Schichten!$F$7+COUNTIF(D15:AH15,Schichten!$A$8)*Schichten!$F$8) | AK15: =IF(OR(AI15="",AJ15=""),"",AJ15-AI15)
A16: =Team!$A$15&"" | B16: =Team!$B$15&"" | C16: =Team!$C$15&"" | AI16: =IF(Team!$D$15="","",Team!$D$15) | AJ16: =IF(AND($A16="",COUNTA(D16:AH16)=0),"",COUNTIF(D16:AH16,Schichten!$A$2)*Schichten!$F$2+COUNTIF(D16:AH16,Schichten!$A$3)*Schichten!$F$3+COUNTIF(D16:AH16,Schichten!$A$4)*Schichten!$F$4+COUNTIF(D16:AH16,Schichten!$A$5)*Schichten!$F$5+COUNTIF(D16:AH16,Schichten!$A$6)*Schichten!$F$6+COUNTIF(D16:AH16,Schichten!$A$7)*Schichten!$F$7+COUNTIF(D16:AH16,Schichten!$A$8)*Schichten!$F$8) | AK16: =IF(OR(AI16="",AJ16=""),"",AJ16-AI16)
A17: =Team!$A$16&"" | B17: =Team!$B$16&"" | C17: =Team!$C$16&"" | AI17: =IF(Team!$D$16="","",Team!$D$16) | AJ17: =IF(AND($A17="",COUNTA(D17:AH17)=0),"",COUNTIF(D17:AH17,Schichten!$A$2)*Schichten!$F$2+COUNTIF(D17:AH17,Schichten!$A$3)*Schichten!$F$3+COUNTIF(D17:AH17,Schichten!$A$4)*Schichten!$F$4+COUNTIF(D17:AH17,Schichten!$A$5)*Schichten!$F$5+COUNTIF(D17:AH17,Schichten!$A$6)*Schichten!$F$6+COUNTIF(D17:AH17,Schichten!$A$7)*Schichten!$F$7+COUNTIF(D17:AH17,Schichten!$A$8)*Schichten!$F$8) | AK17: =IF(OR(AI17="",AJ17=""),"",AJ17-AI17)
A18: =Team!$A$17&"" | B18: =Team!$B$17&"" | C18: =Team!$C$17&"" | AI18: =IF(Team!$D$17="","",Team!$D$17) | AJ18: =IF(AND($A18="",COUNTA(D18:AH18)=0),"",COUNTIF(D18:AH18,Schichten!$A$2)*Schichten!$F$2+COUNTIF(D18:AH18,Schichten!$A$3)*Schichten!$F$3+COUNTIF(D18:AH18,Schichten!$A$4)*Schichten!$F$4+COUNTIF(D18:AH18,Schichten!$A$5)*Schichten!$F$5+COUNTIF(D18:AH18,Schichten!$A$6)*Schichten!$F$6+COUNTIF(D18:AH18,Schichten!$A$7)*Schichten!$F$7+COUNTIF(D18:AH18,Schichten!$A$8)*Schichten!$F$8) | AK18: =IF(OR(AI18="",AJ18=""),"",AJ18-AI18)
A19: =Team!$A$18&"" | B19: =Team!$B$18&"" | C19: =Team!$C$18&"" | AI19: =IF(Team!$D$18="","",Team!$D$18) | AJ19: =IF(AND($A19="",COUNTA(D19:AH19)=0),"",COUNTIF(D19:AH19,Schichten!$A$2)*Schichten!$F$2+COUNTIF(D19:AH19,Schichten!$A$3)*Schichten!$F$3+COUNTIF(D19:AH19,Schichten!$A$4)*Schichten!$F$4+COUNTIF(D19:AH19,Schichten!$A$5)*Schichten!$F$5+COUNTIF(D19:AH19,Schichten!$A$6)*Schichten!$F$6+COUNTIF(D19:AH19,Schichten!$A$7)*Schichten!$F$7+COUNTIF(D19:AH19,Schichten!$A$8)*Schichten!$F$8) | AK19: =IF(OR(AI19="",AJ19=""),"",AJ19-AI19)
A20: =Team!$A$19&"" | B20: =Team!$B$19&"" | C20: =Team!$C$19&"" | AI20: =IF(Team!$D$19="","",Team!$D$19) | AJ20: =IF(AND($A20="",COUNTA(D20:AH20)=0),"",COUNTIF(D20:AH20,Schichten!$A$2)*Schichten!$F$2+COUNTIF(D20:AH20,Schichten!$A$3)*Schichten!$F$3+COUNTIF(D20:AH20,Schichten!$A$4)*Schichten!$F$4+COUNTIF(D20:AH20,Schichten!$A$5)*Schichten!$F$5+COUNTIF(D20:AH20,Schichten!$A$6)*Schichten!$F$6+COUNTIF(D20:AH20,Schichten!$A$7)*Schichten!$F$7+COUNTIF(D20:AH20,Schichten!$A$8)*Schichten!$F$8) | AK20: =IF(OR(AI20="",AJ20=""),"",AJ20-AI20)
A21: =Team!$A$20&"" | B21: =Team!$B$20&"" | C21: =Team!$C$20&"" | AI21: =IF(Team!$D$20="","",Team!$D$20) | AJ21: =IF(AND($A21="",COUNTA(D21:AH21)=0),"",COUNTIF(D21:AH21,Schichten!$A$2)*Schichten!$F$2+COUNTIF(D21:AH21,Schichten!$A$3)*Schichten!$F$3+COUNTIF(D21:AH21,Schichten!$A$4)*Schichten!$F$4+COUNTIF(D21:AH21,Schichten!$A$5)*Schichten!$F$5+COUNTIF(D21:AH21,Schichten!$A$6)*Schichten!$F$6+COUNTIF(D21:AH21,Schichten!$A$7)*Schichten!$F$7+COUNTIF(D21:AH21,Schichten!$A$8)*Schichten!$F$8) | AK21: =IF(OR(AI21="",AJ21=""),"",AJ21-AI21)
A23: Bundesweite Feiertage im März 2027: Fr 26.03. Karfreitag, Mo 29.03. Ostermontag
A24: Nur in einigen Bundesländern, im Plan nicht markiert: Mo 08.03. Internationaler Frauentag (BE, MV), So 28.03. Ostersonntag (BB)
A26: Kostenlose Vorlage von www.crew-active.de/ressourcen/blog/dienstplan-vorlage-excel/

Sheet April
A1: Dienstplan April 2027
A2: Pro Tag ein Schichtkürzel aus der Liste wählen: F Früh, S Spät, N Nacht, T Tag, U Urlaub, K Krank, FR Frei. Zeiten und Stunden stehen im Blatt „Schichten“, Namen und Soll-Stunden im Blatt „Team“. Grau: Samstag, Sonntag und bundesweite Feiertage.
D4: KW 13 | H4: KW 14 | O4: KW 15 | V4: KW 16 | AC4: KW 17
A5: Mitarbeiter/in | B5: Personalnr. | C5: Qualifikation | D5: 1 | E5: 2 | F5: 3 | G5: 4 | H5: 5 | I5: 6 | J5: 7 | K5: 8 | L5: 9 | M5: 10 | N5: 11 | O5: 12 | P5: 13 | Q5: 14 | R5: 15 | S5: 16 | T5: 17 | U5: 18 | V5: 19 | W5: 20 | X5: 21 | Y5: 22 | Z5: 23 | AA5: 24 | AB5: 25 | AC5: 26 | AD5: 27 | AE5: 28 | AF5: 29 | AG5: 30 | AH5: Soll-Std. | AI5: Ist-Std. | AJ5: Differenz
D6: Do | E6: Fr | F6: Sa | G6: So | H6: Mo | I6: Di | J6: Mi | K6: Do | L6: Fr | M6: Sa | N6: So | O6: Mo | P6: Di | Q6: Mi | R6: Do | S6: Fr | T6: Sa | U6: So | V6: Mo | W6: Di | X6: Mi | Y6: Do | Z6: Fr | AA6: Sa | AB6: So | AC6: Mo | AD6: Di | AE6: Mi | AF6: Do | AG6: Fr
A7: =Team!$A$6&"" | B7: =Team!$B$6&"" | C7: =Team!$C$6&"" | AH7: =IF(Team!$D$6="","",Team!$D$6) | AI7: =IF(AND($A7="",COUNTA(D7:AG7)=0),"",COUNTIF(D7:AG7,Schichten!$A$2)*Schichten!$F$2+COUNTIF(D7:AG7,Schichten!$A$3)*Schichten!$F$3+COUNTIF(D7:AG7,Schichten!$A$4)*Schichten!$F$4+COUNTIF(D7:AG7,Schichten!$A$5)*Schichten!$F$5+COUNTIF(D7:AG7,Schichten!$A$6)*Schichten!$F$6+COUNTIF(D7:AG7,Schichten!$A$7)*Schichten!$F$7+COUNTIF(D7:AG7,Schichten!$A$8)*Schichten!$F$8) | AJ7: =IF(OR(AH7="",AI7=""),"",AI7-AH7)
A8: =Team!$A$7&"" | B8: =Team!$B$7&"" | C8: =Team!$C$7&"" | AH8: =IF(Team!$D$7="","",Team!$D$7) | AI8: =IF(AND($A8="",COUNTA(D8:AG8)=0),"",COUNTIF(D8:AG8,Schichten!$A$2)*Schichten!$F$2+COUNTIF(D8:AG8,Schichten!$A$3)*Schichten!$F$3+COUNTIF(D8:AG8,Schichten!$A$4)*Schichten!$F$4+COUNTIF(D8:AG8,Schichten!$A$5)*Schichten!$F$5+COUNTIF(D8:AG8,Schichten!$A$6)*Schichten!$F$6+COUNTIF(D8:AG8,Schichten!$A$7)*Schichten!$F$7+COUNTIF(D8:AG8,Schichten!$A$8)*Schichten!$F$8) | AJ8: =IF(OR(AH8="",AI8=""),"",AI8-AH8)
A9: =Team!$A$8&"" | B9: =Team!$B$8&"" | C9: =Team!$C$8&"" | AH9: =IF(Team!$D$8="","",Team!$D$8) | AI9: =IF(AND($A9="",COUNTA(D9:AG9)=0),"",COUNTIF(D9:AG9,Schichten!$A$2)*Schichten!$F$2+COUNTIF(D9:AG9,Schichten!$A$3)*Schichten!$F$3+COUNTIF(D9:AG9,Schichten!$A$4)*Schichten!$F$4+COUNTIF(D9:AG9,Schichten!$A$5)*Schichten!$F$5+COUNTIF(D9:AG9,Schichten!$A$6)*Schichten!$F$6+COUNTIF(D9:AG9,Schichten!$A$7)*Schichten!$F$7+COUNTIF(D9:AG9,Schichten!$A$8)*Schichten!$F$8) | AJ9: =IF(OR(AH9="",AI9=""),"",AI9-AH9)
A10: =Team!$A$9&"" | B10: =Team!$B$9&"" | C10: =Team!$C$9&"" | AH10: =IF(Team!$D$9="","",Team!$D$9) | AI10: =IF(AND($A10="",COUNTA(D10:AG10)=0),"",COUNTIF(D10:AG10,Schichten!$A$2)*Schichten!$F$2+COUNTIF(D10:AG10,Schichten!$A$3)*Schichten!$F$3+COUNTIF(D10:AG10,Schichten!$A$4)*Schichten!$F$4+COUNTIF(D10:AG10,Schichten!$A$5)*Schichten!$F$5+COUNTIF(D10:AG10,Schichten!$A$6)*Schichten!$F$6+COUNTIF(D10:AG10,Schichten!$A$7)*Schichten!$F$7+COUNTIF(D10:AG10,Schichten!$A$8)*Schichten!$F$8) | AJ10: =IF(OR(AH10="",AI10=""),"",AI10-AH10)
A11: =Team!$A$10&"" | B11: =Team!$B$10&"" | C11: =Team!$C$10&"" | AH11: =IF(Team!$D$10="","",Team!$D$10) | AI11: =IF(AND($A11="",COUNTA(D11:AG11)=0),"",COUNTIF(D11:AG11,Schichten!$A$2)*Schichten!$F$2+COUNTIF(D11:AG11,Schichten!$A$3)*Schichten!$F$3+COUNTIF(D11:AG11,Schichten!$A$4)*Schichten!$F$4+COUNTIF(D11:AG11,Schichten!$A$5)*Schichten!$F$5+COUNTIF(D11:AG11,Schichten!$A$6)*Schichten!$F$6+COUNTIF(D11:AG11,Schichten!$A$7)*Schichten!$F$7+COUNTIF(D11:AG11,Schichten!$A$8)*Schichten!$F$8) | AJ11: =IF(OR(AH11="",AI11=""),"",AI11-AH11)
A12: =Team!$A$11&"" | B12: =Team!$B$11&"" | C12: =Team!$C$11&"" | AH12: =IF(Team!$D$11="","",Team!$D$11) | AI12: =IF(AND($A12="",COUNTA(D12:AG12)=0),"",COUNTIF(D12:AG12,Schichten!$A$2)*Schichten!$F$2+COUNTIF(D12:AG12,Schichten!$A$3)*Schichten!$F$3+COUNTIF(D12:AG12,Schichten!$A$4)*Schichten!$F$4+COUNTIF(D12:AG12,Schichten!$A$5)*Schichten!$F$5+COUNTIF(D12:AG12,Schichten!$A$6)*Schichten!$F$6+COUNTIF(D12:AG12,Schichten!$A$7)*Schichten!$F$7+COUNTIF(D12:AG12,Schichten!$A$8)*Schichten!$F$8) | AJ12: =IF(OR(AH12="",AI12=""),"",AI12-AH12)
A13: =Team!$A$12&"" | B13: =Team!$B$12&"" | C13: =Team!$C$12&"" | AH13: =IF(Team!$D$12="","",Team!$D$12) | AI13: =IF(AND($A13="",COUNTA(D13:AG13)=0),"",COUNTIF(D13:AG13,Schichten!$A$2)*Schichten!$F$2+COUNTIF(D13:AG13,Schichten!$A$3)*Schichten!$F$3+COUNTIF(D13:AG13,Schichten!$A$4)*Schichten!$F$4+COUNTIF(D13:AG13,Schichten!$A$5)*Schichten!$F$5+COUNTIF(D13:AG13,Schichten!$A$6)*Schichten!$F$6+COUNTIF(D13:AG13,Schichten!$A$7)*Schichten!$F$7+COUNTIF(D13:AG13,Schichten!$A$8)*Schichten!$F$8) | AJ13: =IF(OR(AH13="",AI13=""),"",AI13-AH13)
A14: =Team!$A$13&"" | B14: =Team!$B$13&"" | C14: =Team!$C$13&"" | AH14: =IF(Team!$D$13="","",Team!$D$13) | AI14: =IF(AND($A14="",COUNTA(D14:AG14)=0),"",COUNTIF(D14:AG14,Schichten!$A$2)*Schichten!$F$2+COUNTIF(D14:AG14,Schichten!$A$3)*Schichten!$F$3+COUNTIF(D14:AG14,Schichten!$A$4)*Schichten!$F$4+COUNTIF(D14:AG14,Schichten!$A$5)*Schichten!$F$5+COUNTIF(D14:AG14,Schichten!$A$6)*Schichten!$F$6+COUNTIF(D14:AG14,Schichten!$A$7)*Schichten!$F$7+COUNTIF(D14:AG14,Schichten!$A$8)*Schichten!$F$8) | AJ14: =IF(OR(AH14="",AI14=""),"",AI14-AH14)
A15: =Team!$A$14&"" | B15: =Team!$B$14&"" | C15: =Team!$C$14&"" | AH15: =IF(Team!$D$14="","",Team!$D$14) | AI15: =IF(AND($A15="",COUNTA(D15:AG15)=0),"",COUNTIF(D15:AG15,Schichten!$A$2)*Schichten!$F$2+COUNTIF(D15:AG15,Schichten!$A$3)*Schichten!$F$3+COUNTIF(D15:AG15,Schichten!$A$4)*Schichten!$F$4+COUNTIF(D15:AG15,Schichten!$A$5)*Schichten!$F$5+COUNTIF(D15:AG15,Schichten!$A$6)*Schichten!$F$6+COUNTIF(D15:AG15,Schichten!$A$7)*Schichten!$F$7+COUNTIF(D15:AG15,Schichten!$A$8)*Schichten!$F$8) | AJ15: =IF(OR(AH15="",AI15=""),"",AI15-AH15)
A16: =Team!$A$15&"" | B16: =Team!$B$15&"" | C16: =Team!$C$15&"" | AH16: =IF(Team!$D$15="","",Team!$D$15) | AI16: =IF(AND($A16="",COUNTA(D16:AG16)=0),"",COUNTIF(D16:AG16,Schichten!$A$2)*Schichten!$F$2+COUNTIF(D16:AG16,Schichten!$A$3)*Schichten!$F$3+COUNTIF(D16:AG16,Schichten!$A$4)*Schichten!$F$4+COUNTIF(D16:AG16,Schichten!$A$5)*Schichten!$F$5+COUNTIF(D16:AG16,Schichten!$A$6)*Schichten!$F$6+COUNTIF(D16:AG16,Schichten!$A$7)*Schichten!$F$7+COUNTIF(D16:AG16,Schichten!$A$8)*Schichten!$F$8) | AJ16: =IF(OR(AH16="",AI16=""),"",AI16-AH16)
A17: =Team!$A$16&"" | B17: =Team!$B$16&"" | C17: =Team!$C$16&"" | AH17: =IF(Team!$D$16="","",Team!$D$16) | AI17: =IF(AND($A17="",COUNTA(D17:AG17)=0),"",COUNTIF(D17:AG17,Schichten!$A$2)*Schichten!$F$2+COUNTIF(D17:AG17,Schichten!$A$3)*Schichten!$F$3+COUNTIF(D17:AG17,Schichten!$A$4)*Schichten!$F$4+COUNTIF(D17:AG17,Schichten!$A$5)*Schichten!$F$5+COUNTIF(D17:AG17,Schichten!$A$6)*Schichten!$F$6+COUNTIF(D17:AG17,Schichten!$A$7)*Schichten!$F$7+COUNTIF(D17:AG17,Schichten!$A$8)*Schichten!$F$8) | AJ17: =IF(OR(AH17="",AI17=""),"",AI17-AH17)
A18: =Team!$A$17&"" | B18: =Team!$B$17&"" | C18: =Team!$C$17&"" | AH18: =IF(Team!$D$17="","",Team!$D$17) | AI18: =IF(AND($A18="",COUNTA(D18:AG18)=0),"",COUNTIF(D18:AG18,Schichten!$A$2)*Schichten!$F$2+COUNTIF(D18:AG18,Schichten!$A$3)*Schichten!$F$3+COUNTIF(D18:AG18,Schichten!$A$4)*Schichten!$F$4+COUNTIF(D18:AG18,Schichten!$A$5)*Schichten!$F$5+COUNTIF(D18:AG18,Schichten!$A$6)*Schichten!$F$6+COUNTIF(D18:AG18,Schichten!$A$7)*Schichten!$F$7+COUNTIF(D18:AG18,Schichten!$A$8)*Schichten!$F$8) | AJ18: =IF(OR(AH18="",AI18=""),"",AI18-AH18)
A19: =Team!$A$18&"" | B19: =Team!$B$18&"" | C19: =Team!$C$18&"" | AH19: =IF(Team!$D$18="","",Team!$D$18) | AI19: =IF(AND($A19="",COUNTA(D19:AG19)=0),"",COUNTIF(D19:AG19,Schichten!$A$2)*Schichten!$F$2+COUNTIF(D19:AG19,Schichten!$A$3)*Schichten!$F$3+COUNTIF(D19:AG19,Schichten!$A$4)*Schichten!$F$4+COUNTIF(D19:AG19,Schichten!$A$5)*Schichten!$F$5+COUNTIF(D19:AG19,Schichten!$A$6)*Schichten!$F$6+COUNTIF(D19:AG19,Schichten!$A$7)*Schichten!$F$7+COUNTIF(D19:AG19,Schichten!$A$8)*Schichten!$F$8) | AJ19: =IF(OR(AH19="",AI19=""),"",AI19-AH19)
A20: =Team!$A$19&"" | B20: =Team!$B$19&"" | C20: =Team!$C$19&"" | AH20: =IF(Team!$D$19="","",Team!$D$19) | AI20: =IF(AND($A20="",COUNTA(D20:AG20)=0),"",COUNTIF(D20:AG20,Schichten!$A$2)*Schichten!$F$2+COUNTIF(D20:AG20,Schichten!$A$3)*Schichten!$F$3+COUNTIF(D20:AG20,Schichten!$A$4)*Schichten!$F$4+COUNTIF(D20:AG20,Schichten!$A$5)*Schichten!$F$5+COUNTIF(D20:AG20,Schichten!$A$6)*Schichten!$F$6+COUNTIF(D20:AG20,Schichten!$A$7)*Schichten!$F$7+COUNTIF(D20:AG20,Schichten!$A$8)*Schichten!$F$8) | AJ20: =IF(OR(AH20="",AI20=""),"",AI20-AH20)
A21: =Team!$A$20&"" | B21: =Team!$B$20&"" | C21: =Team!$C$20&"" | AH21: =IF(Team!$D$20="","",Team!$D$20) | AI21: =IF(AND($A21="",COUNTA(D21:AG21)=0),"",COUNTIF(D21:AG21,Schichten!$A$2)*Schichten!$F$2+COUNTIF(D21:AG21,Schichten!$A$3)*Schichten!$F$3+COUNTIF(D21:AG21,Schichten!$A$4)*Schichten!$F$4+COUNTIF(D21:AG21,Schichten!$A$5)*Schichten!$F$5+COUNTIF(D21:AG21,Schichten!$A$6)*Schichten!$F$6+COUNTIF(D21:AG21,Schichten!$A$7)*Schichten!$F$7+COUNTIF(D21:AG21,Schichten!$A$8)*Schichten!$F$8) | AJ21: =IF(OR(AH21="",AI21=""),"",AI21-AH21)
A23: Keine bundesweiten Feiertage im April 2027.
A25: Kostenlose Vorlage von www.crew-active.de/ressourcen/blog/dienstplan-vorlage-excel/

Sheet Mai
A1: Dienstplan Mai 2027
A2: Pro Tag ein Schichtkürzel aus der Liste wählen: F Früh, S Spät, N Nacht, T Tag, U Urlaub, K Krank, FR Frei. Zeiten und Stunden stehen im Blatt „Schichten“, Namen und Soll-Stunden im Blatt „Team“. Grau: Samstag, Sonntag und bundesweite Feiertage.
D4: KW 17 | F4: KW 18 | M4: KW 19 | T4: KW 20 | AA4: KW 21 | AH4: KW 22
A5: Mitarbeiter/in | B5: Personalnr. | C5: Qualifikation | D5: 1 | E5: 2 | F5: 3 | G5: 4 | H5: 5 | I5: 6 | J5: 7 | K5: 8 | L5: 9 | M5: 10 | N5: 11 | O5: 12 | P5: 13 | Q5: 14 | R5: 15 | S5: 16 | T5: 17 | U5: 18 | V5: 19 | W5: 20 | X5: 21 | Y5: 22 | Z5: 23 | AA5: 24 | AB5: 25 | AC5: 26 | AD5: 27 | AE5: 28 | AF5: 29 | AG5: 30 | AH5: 31 | AI5: Soll-Std. | AJ5: Ist-Std. | AK5: Differenz
D6: Sa | E6: So | F6: Mo | G6: Di | H6: Mi | I6: Do | J6: Fr | K6: Sa | L6: So | M6: Mo | N6: Di | O6: Mi | P6: Do | Q6: Fr | R6: Sa | S6: So | T6: Mo | U6: Di | V6: Mi | W6: Do | X6: Fr | Y6: Sa | Z6: So | AA6: Mo | AB6: Di | AC6: Mi | AD6: Do | AE6: Fr | AF6: Sa | AG6: So | AH6: Mo
A7: =Team!$A$6&"" | B7: =Team!$B$6&"" | C7: =Team!$C$6&"" | AI7: =IF(Team!$D$6="","",Team!$D$6) | AJ7: =IF(AND($A7="",COUNTA(D7:AH7)=0),"",COUNTIF(D7:AH7,Schichten!$A$2)*Schichten!$F$2+COUNTIF(D7:AH7,Schichten!$A$3)*Schichten!$F$3+COUNTIF(D7:AH7,Schichten!$A$4)*Schichten!$F$4+COUNTIF(D7:AH7,Schichten!$A$5)*Schichten!$F$5+COUNTIF(D7:AH7,Schichten!$A$6)*Schichten!$F$6+COUNTIF(D7:AH7,Schichten!$A$7)*Schichten!$F$7+COUNTIF(D7:AH7,Schichten!$A$8)*Schichten!$F$8) | AK7: =IF(OR(AI7="",AJ7=""),"",AJ7-AI7)
A8: =Team!$A$7&"" | B8: =Team!$B$7&"" | C8: =Team!$C$7&"" | AI8: =IF(Team!$D$7="","",Team!$D$7) | AJ8: =IF(AND($A8="",COUNTA(D8:AH8)=0),"",COUNTIF(D8:AH8,Schichten!$A$2)*Schichten!$F$2+COUNTIF(D8:AH8,Schichten!$A$3)*Schichten!$F$3+COUNTIF(D8:AH8,Schichten!$A$4)*Schichten!$F$4+COUNTIF(D8:AH8,Schichten!$A$5)*Schichten!$F$5+COUNTIF(D8:AH8,Schichten!$A$6)*Schichten!$F$6+COUNTIF(D8:AH8,Schichten!$A$7)*Schichten!$F$7+COUNTIF(D8:AH8,Schichten!$A$8)*Schichten!$F$8) | AK8: =IF(OR(AI8="",AJ8=""),"",AJ8-AI8)
A9: =Team!$A$8&"" | B9: =Team!$B$8&"" | C9: =Team!$C$8&"" | AI9: =IF(Team!$D$8="","",Team!$D$8) | AJ9: =IF(AND($A9="",COUNTA(D9:AH9)=0),"",COUNTIF(D9:AH9,Schichten!$A$2)*Schichten!$F$2+COUNTIF(D9:AH9,Schichten!$A$3)*Schichten!$F$3+COUNTIF(D9:AH9,Schichten!$A$4)*Schichten!$F$4+COUNTIF(D9:AH9,Schichten!$A$5)*Schichten!$F$5+COUNTIF(D9:AH9,Schichten!$A$6)*Schichten!$F$6+COUNTIF(D9:AH9,Schichten!$A$7)*Schichten!$F$7+COUNTIF(D9:AH9,Schichten!$A$8)*Schichten!$F$8) | AK9: =IF(OR(AI9="",AJ9=""),"",AJ9-AI9)
A10: =Team!$A$9&"" | B10: =Team!$B$9&"" | C10: =Team!$C$9&"" | AI10: =IF(Team!$D$9="","",Team!$D$9) | AJ10: =IF(AND($A10="",COUNTA(D10:AH10)=0),"",COUNTIF(D10:AH10,Schichten!$A$2)*Schichten!$F$2+COUNTIF(D10:AH10,Schichten!$A$3)*Schichten!$F$3+COUNTIF(D10:AH10,Schichten!$A$4)*Schichten!$F$4+COUNTIF(D10:AH10,Schichten!$A$5)*Schichten!$F$5+COUNTIF(D10:AH10,Schichten!$A$6)*Schichten!$F$6+COUNTIF(D10:AH10,Schichten!$A$7)*Schichten!$F$7+COUNTIF(D10:AH10,Schichten!$A$8)*Schichten!$F$8) | AK10: =IF(OR(AI10="",AJ10=""),"",AJ10-AI10)
A11: =Team!$A$10&"" | B11: =Team!$B$10&"" | C11: =Team!$C$10&"" | AI11: =IF(Team!$D$10="","",Team!$D$10) | AJ11: =IF(AND($A11="",COUNTA(D11:AH11)=0),"",COUNTIF(D11:AH11,Schichten!$A$2)*Schichten!$F$2+COUNTIF(D11:AH11,Schichten!$A$3)*Schichten!$F$3+COUNTIF(D11:AH11,Schichten!$A$4)*Schichten!$F$4+COUNTIF(D11:AH11,Schichten!$A$5)*Schichten!$F$5+COUNTIF(D11:AH11,Schichten!$A$6)*Schichten!$F$6+COUNTIF(D11:AH11,Schichten!$A$7)*Schichten!$F$7+COUNTIF(D11:AH11,Schichten!$A$8)*Schichten!$F$8) | AK11: =IF(OR(AI11="",AJ11=""),"",AJ11-AI11)
A12: =Team!$A$11&"" | B12: =Team!$B$11&"" | C12: =Team!$C$11&"" | AI12: =IF(Team!$D$11="","",Team!$D$11) | AJ12: =IF(AND($A12="",COUNTA(D12:AH12)=0),"",COUNTIF(D12:AH12,Schichten!$A$2)*Schichten!$F$2+COUNTIF(D12:AH12,Schichten!$A$3)*Schichten!$F$3+COUNTIF(D12:AH12,Schichten!$A$4)*Schichten!$F$4+COUNTIF(D12:AH12,Schichten!$A$5)*Schichten!$F$5+COUNTIF(D12:AH12,Schichten!$A$6)*Schichten!$F$6+COUNTIF(D12:AH12,Schichten!$A$7)*Schichten!$F$7+COUNTIF(D12:AH12,Schichten!$A$8)*Schichten!$F$8) | AK12: =IF(OR(AI12="",AJ12=""),"",AJ12-AI12)
A13: =Team!$A$12&"" | B13: =Team!$B$12&"" | C13: =Team!$C$12&"" | AI13: =IF(Team!$D$12="","",Team!$D$12) | AJ13: =IF(AND($A13="",COUNTA(D13:AH13)=0),"",COUNTIF(D13:AH13,Schichten!$A$2)*Schichten!$F$2+COUNTIF(D13:AH13,Schichten!$A$3)*Schichten!$F$3+COUNTIF(D13:AH13,Schichten!$A$4)*Schichten!$F$4+COUNTIF(D13:AH13,Schichten!$A$5)*Schichten!$F$5+COUNTIF(D13:AH13,Schichten!$A$6)*Schichten!$F$6+COUNTIF(D13:AH13,Schichten!$A$7)*Schichten!$F$7+COUNTIF(D13:AH13,Schichten!$A$8)*Schichten!$F$8) | AK13: =IF(OR(AI13="",AJ13=""),"",AJ13-AI13)
A14: =Team!$A$13&"" | B14: =Team!$B$13&"" | C14: =Team!$C$13&"" | AI14: =IF(Team!$D$13="","",Team!$D$13) | AJ14: =IF(AND($A14="",COUNTA(D14:AH14)=0),"",COUNTIF(D14:AH14,Schichten!$A$2)*Schichten!$F$2+COUNTIF(D14:AH14,Schichten!$A$3)*Schichten!$F$3+COUNTIF(D14:AH14,Schichten!$A$4)*Schichten!$F$4+COUNTIF(D14:AH14,Schichten!$A$5)*Schichten!$F$5+COUNTIF(D14:AH14,Schichten!$A$6)*Schichten!$F$6+COUNTIF(D14:AH14,Schichten!$A$7)*Schichten!$F$7+COUNTIF(D14:AH14,Schichten!$A$8)*Schichten!$F$8) | AK14: =IF(OR(AI14="",AJ14=""),"",AJ14-AI14)
A15: =Team!$A$14&"" | B15: =Team!$B$14&"" | C15: =Team!$C$14&"" | AI15: =IF(Team!$D$14="","",Team!$D$14) | AJ15: =IF(AND($A15="",COUNTA(D15:AH15)=0),"",COUNTIF(D15:AH15,Schichten!$A$2)*Schichten!$F$2+COUNTIF(D15:AH15,Schichten!$A$3)*Schichten!$F$3+COUNTIF(D15:AH15,Schichten!$A$4)*Schichten!$F$4+COUNTIF(D15:AH15,Schichten!$A$5)*Schichten!$F$5+COUNTIF(D15:AH15,Schichten!$A$6)*Schichten!$F$6+COUNTIF(D15:AH15,Schichten!$A$7)*Schichten!$F$7+COUNTIF(D15:AH15,Schichten!$A$8)*Schichten!$F$8) | AK15: =IF(OR(AI15="",AJ15=""),"",AJ15-AI15)
A16: =Team!$A$15&"" | B16: =Team!$B$15&"" | C16: =Team!$C$15&"" | AI16: =IF(Team!$D$15="","",Team!$D$15) | AJ16: =IF(AND($A16="",COUNTA(D16:AH16)=0),"",COUNTIF(D16:AH16,Schichten!$A$2)*Schichten!$F$2+COUNTIF(D16:AH16,Schichten!$A$3)*Schichten!$F$3+COUNTIF(D16:AH16,Schichten!$A$4)*Schichten!$F$4+COUNTIF(D16:AH16,Schichten!$A$5)*Schichten!$F$5+COUNTIF(D16:AH16,Schichten!$A$6)*Schichten!$F$6+COUNTIF(D16:AH16,Schichten!$A$7)*Schichten!$F$7+COUNTIF(D16:AH16,Schichten!$A$8)*Schichten!$F$8) | AK16: =IF(OR(AI16="",AJ16=""),"",AJ16-AI16)
A17: =Team!$A$16&"" | B17: =Team!$B$16&"" | C17: =Team!$C$16&"" | AI17: =IF(Team!$D$16="","",Team!$D$16) | AJ17: =IF(AND($A17="",COUNTA(D17:AH17)=0),"",COUNTIF(D17:AH17,Schichten!$A$2)*Schichten!$F$2+COUNTIF(D17:AH17,Schichten!$A$3)*Schichten!$F$3+COUNTIF(D17:AH17,Schichten!$A$4)*Schichten!$F$4+COUNTIF(D17:AH17,Schichten!$A$5)*Schichten!$F$5+COUNTIF(D17:AH17,Schichten!$A$6)*Schichten!$F$6+COUNTIF(D17:AH17,Schichten!$A$7)*Schichten!$F$7+COUNTIF(D17:AH17,Schichten!$A$8)*Schichten!$F$8) | AK17: =IF(OR(AI17="",AJ17=""),"",AJ17-AI17)
A18: =Team!$A$17&"" | B18: =Team!$B$17&"" | C18: =Team!$C$17&"" | AI18: =IF(Team!$D$17="","",Team!$D$17) | AJ18: =IF(AND($A18="",COUNTA(D18:AH18)=0),"",COUNTIF(D18:AH18,Schichten!$A$2)*Schichten!$F$2+COUNTIF(D18:AH18,Schichten!$A$3)*Schichten!$F$3+COUNTIF(D18:AH18,Schichten!$A$4)*Schichten!$F$4+COUNTIF(D18:AH18,Schichten!$A$5)*Schichten!$F$5+COUNTIF(D18:AH18,Schichten!$A$6)*Schichten!$F$6+COUNTIF(D18:AH18,Schichten!$A$7)*Schichten!$F$7+COUNTIF(D18:AH18,Schichten!$A$8)*Schichten!$F$8) | AK18: =IF(OR(AI18="",AJ18=""),"",AJ18-AI18)
A19: =Team!$A$18&"" | B19: =Team!$B$18&"" | C19: =Team!$C$18&"" | AI19: =IF(Team!$D$18="","",Team!$D$18) | AJ19: =IF(AND($A19="",COUNTA(D19:AH19)=0),"",COUNTIF(D19:AH19,Schichten!$A$2)*Schichten!$F$2+COUNTIF(D19:AH19,Schichten!$A$3)*Schichten!$F$3+COUNTIF(D19:AH19,Schichten!$A$4)*Schichten!$F$4+COUNTIF(D19:AH19,Schichten!$A$5)*Schichten!$F$5+COUNTIF(D19:AH19,Schichten!$A$6)*Schichten!$F$6+COUNTIF(D19:AH19,Schichten!$A$7)*Schichten!$F$7+COUNTIF(D19:AH19,Schichten!$A$8)*Schichten!$F$8) | AK19: =IF(OR(AI19="",AJ19=""),"",AJ19-AI19)
A20: =Team!$A$19&"" | B20: =Team!$B$19&"" | C20: =Team!$C$19&"" | AI20: =IF(Team!$D$19="","",Team!$D$19) | AJ20: =IF(AND($A20="",COUNTA(D20:AH20)=0),"",COUNTIF(D20:AH20,Schichten!$A$2)*Schichten!$F$2+COUNTIF(D20:AH20,Schichten!$A$3)*Schichten!$F$3+COUNTIF(D20:AH20,Schichten!$A$4)*Schichten!$F$4+COUNTIF(D20:AH20,Schichten!$A$5)*Schichten!$F$5+COUNTIF(D20:AH20,Schichten!$A$6)*Schichten!$F$6+COUNTIF(D20:AH20,Schichten!$A$7)*Schichten!$F$7+COUNTIF(D20:AH20,Schichten!$A$8)*Schichten!$F$8) | AK20: =IF(OR(AI20="",AJ20=""),"",AJ20-AI20)
A21: =Team!$A$20&"" | B21: =Team!$B$20&"" | C21: =Team!$C$20&"" | AI21: =IF(Team!$D$20="","",Team!$D$20) | AJ21: =IF(AND($A21="",COUNTA(D21:AH21)=0),"",COUNTIF(D21:AH21,Schichten!$A$2)*Schichten!$F$2+COUNTIF(D21:AH21,Schichten!$A$3)*Schichten!$F$3+COUNTIF(D21:AH21,Schichten!$A$4)*Schichten!$F$4+COUNTIF(D21:AH21,Schichten!$A$5)*Schichten!$F$5+COUNTIF(D21:AH21,Schichten!$A$6)*Schichten!$F$6+COUNTIF(D21:AH21,Schichten!$A$7)*Schichten!$F$7+COUNTIF(D21:AH21,Schichten!$A$8)*Schichten!$F$8) | AK21: =IF(OR(AI21="",AJ21=""),"",AJ21-AI21)
A23: Bundesweite Feiertage im Mai 2027: Sa 01.05. Tag der Arbeit, Do 06.05. Christi Himmelfahrt, Mo 17.05. Pfingstmontag
A24: Nur in einigen Bundesländern, im Plan nicht markiert: So 16.05. Pfingstsonntag (BB), Do 27.05. Fronleichnam (BW, BY, HE, NW, RP, SL)
A25: Nur in einzelnen Gemeinden, im Plan nicht markiert: Do 27.05. Fronleichnam (Teile von SN und TH)
A27: Kostenlose Vorlage von www.crew-active.de/ressourcen/blog/dienstplan-vorlage-excel/

Sheet Juni
A1: Dienstplan Juni 2027
A2: Pro Tag ein Schichtkürzel aus der Liste wählen: F Früh, S Spät, N Nacht, T Tag, U Urlaub, K Krank, FR Frei. Zeiten und Stunden stehen im Blatt „Schichten“, Namen und Soll-Stunden im Blatt „Team“. Grau: Samstag, Sonntag und bundesweite Feiertage.
D4: KW 22 | J4: KW 23 | Q4: KW 24 | X4: KW 25 | AE4: KW 26
A5: Mitarbeiter/in | B5: Personalnr. | C5: Qualifikation | D5: 1 | E5: 2 | F5: 3 | G5: 4 | H5: 5 | I5: 6 | J5: 7 | K5: 8 | L5: 9 | M5: 10 | N5: 11 | O5: 12 | P5: 13 | Q5: 14 | R5: 15 | S5: 16 | T5: 17 | U5: 18 | V5: 19 | W5: 20 | X5: 21 | Y5: 22 | Z5: 23 | AA5: 24 | AB5: 25 | AC5: 26 | AD5: 27 | AE5: 28 | AF5: 29 | AG5: 30 | AH5: Soll-Std. | AI5: Ist-Std. | AJ5: Differenz
D6: Di | E6: Mi | F6: Do | G6: Fr | H6: Sa | I6: So | J6: Mo | K6: Di | L6: Mi | M6: Do | N6: Fr | O6: Sa | P6: So | Q6: Mo | R6: Di | S6: Mi | T6: Do | U6: Fr | V6: Sa | W6: So | X6: Mo | Y6: Di | Z6: Mi | AA6: Do | AB6: Fr | AC6: Sa | AD6: So | AE6: Mo | AF6: Di | AG6: Mi
A7: =Team!$A$6&"" | B7: =Team!$B$6&"" | C7: =Team!$C$6&"" | AH7: =IF(Team!$D$6="","",Team!$D$6) | AI7: =IF(AND($A7="",COUNTA(D7:AG7)=0),"",COUNTIF(D7:AG7,Schichten!$A$2)*Schichten!$F$2+COUNTIF(D7:AG7,Schichten!$A$3)*Schichten!$F$3+COUNTIF(D7:AG7,Schichten!$A$4)*Schichten!$F$4+COUNTIF(D7:AG7,Schichten!$A$5)*Schichten!$F$5+COUNTIF(D7:AG7,Schichten!$A$6)*Schichten!$F$6+COUNTIF(D7:AG7,Schichten!$A$7)*Schichten!$F$7+COUNTIF(D7:AG7,Schichten!$A$8)*Schichten!$F$8) | AJ7: =IF(OR(AH7="",AI7=""),"",AI7-AH7)
A8: =Team!$A$7&"" | B8: =Team!$B$7&"" | C8: =Team!$C$7&"" | AH8: =IF(Team!$D$7="","",Team!$D$7) | AI8: =IF(AND($A8="",COUNTA(D8:AG8)=0),"",COUNTIF(D8:AG8,Schichten!$A$2)*Schichten!$F$2+COUNTIF(D8:AG8,Schichten!$A$3)*Schichten!$F$3+COUNTIF(D8:AG8,Schichten!$A$4)*Schichten!$F$4+COUNTIF(D8:AG8,Schichten!$A$5)*Schichten!$F$5+COUNTIF(D8:AG8,Schichten!$A$6)*Schichten!$F$6+COUNTIF(D8:AG8,Schichten!$A$7)*Schichten!$F$7+COUNTIF(D8:AG8,Schichten!$A$8)*Schichten!$F$8) | AJ8: =IF(OR(AH8="",AI8=""),"",AI8-AH8)
A9: =Team!$A$8&"" | B9: =Team!$B$8&"" | C9: =Team!$C$8&"" | AH9: =IF(Team!$D$8="","",Team!$D$8) | AI9: =IF(AND($A9="",COUNTA(D9:AG9)=0),"",COUNTIF(D9:AG9,Schichten!$A$2)*Schichten!$F$2+COUNTIF(D9:AG9,Schichten!$A$3)*Schichten!$F$3+COUNTIF(D9:AG9,Schichten!$A$4)*Schichten!$F$4+COUNTIF(D9:AG9,Schichten!$A$5)*Schichten!$F$5+COUNTIF(D9:AG9,Schichten!$A$6)*Schichten!$F$6+COUNTIF(D9:AG9,Schichten!$A$7)*Schichten!$F$7+COUNTIF(D9:AG9,Schichten!$A$8)*Schichten!$F$8) | AJ9: =IF(OR(AH9="",AI9=""),"",AI9-AH9)
A10: =Team!$A$9&"" | B10: =Team!$B$9&"" | C10: =Team!$C$9&"" | AH10: =IF(Team!$D$9="","",Team!$D$9) | AI10: =IF(AND($A10="",COUNTA(D10:AG10)=0),"",COUNTIF(D10:AG10,Schichten!$A$2)*Schichten!$F$2+COUNTIF(D10:AG10,Schichten!$A$3)*Schichten!$F$3+COUNTIF(D10:AG10,Schichten!$A$4)*Schichten!$F$4+COUNTIF(D10:AG10,Schichten!$A$5)*Schichten!$F$5+COUNTIF(D10:AG10,Schichten!$A$6)*Schichten!$F$6+COUNTIF(D10:AG10,Schichten!$A$7)*Schichten!$F$7+COUNTIF(D10:AG10,Schichten!$A$8)*Schichten!$F$8) | AJ10: =IF(OR(AH10="",AI10=""),"",AI10-AH10)
A11: =Team!$A$10&"" | B11: =Team!$B$10&"" | C11: =Team!$C$10&"" | AH11: =IF(Team!$D$10="","",Team!$D$10) | AI11: =IF(AND($A11="",COUNTA(D11:AG11)=0),"",COUNTIF(D11:AG11,Schichten!$A$2)*Schichten!$F$2+COUNTIF(D11:AG11,Schichten!$A$3)*Schichten!$F$3+COUNTIF(D11:AG11,Schichten!$A$4)*Schichten!$F$4+COUNTIF(D11:AG11,Schichten!$A$5)*Schichten!$F$5+COUNTIF(D11:AG11,Schichten!$A$6)*Schichten!$F$6+COUNTIF(D11:AG11,Schichten!$A$7)*Schichten!$F$7+COUNTIF(D11:AG11,Schichten!$A$8)*Schichten!$F$8) | AJ11: =IF(OR(AH11="",AI11=""),"",AI11-AH11)
A12: =Team!$A$11&"" | B12: =Team!$B$11&"" | C12: =Team!$C$11&"" | AH12: =IF(Team!$D$11="","",Team!$D$11) | AI12: =IF(AND($A12="",COUNTA(D12:AG12)=0),"",COUNTIF(D12:AG12,Schichten!$A$2)*Schichten!$F$2+COUNTIF(D12:AG12,Schichten!$A$3)*Schichten!$F$3+COUNTIF(D12:AG12,Schichten!$A$4)*Schichten!$F$4+COUNTIF(D12:AG12,Schichten!$A$5)*Schichten!$F$5+COUNTIF(D12:AG12,Schichten!$A$6)*Schichten!$F$6+COUNTIF(D12:AG12,Schichten!$A$7)*Schichten!$F$7+COUNTIF(D12:AG12,Schichten!$A$8)*Schichten!$F$8) | AJ12: =IF(OR(AH12="",AI12=""),"",AI12-AH12)
A13: =Team!$A$12&"" | B13: =Team!$B$12&"" | C13: =Team!$C$12&"" | AH13: =IF(Team!$D$12="","",Team!$D$12) | AI13: =IF(AND($A13="",COUNTA(D13:AG13)=0),"",COUNTIF(D13:AG13,Schichten!$A$2)*Schichten!$F$2+COUNTIF(D13:AG13,Schichten!$A$3)*Schichten!$F$3+COUNTIF(D13:AG13,Schichten!$A$4)*Schichten!$F$4+COUNTIF(D13:AG13,Schichten!$A$5)*Schichten!$F$5+COUNTIF(D13:AG13,Schichten!$A$6)*Schichten!$F$6+COUNTIF(D13:AG13,Schichten!$A$7)*Schichten!$F$7+COUNTIF(D13:AG13,Schichten!$A$8)*Schichten!$F$8) | AJ13: =IF(OR(AH13="",AI13=""),"",AI13-AH13)
A14: =Team!$A$13&"" | B14: =Team!$B$13&"" | C14: =Team!$C$13&"" | AH14: =IF(Team!$D$13="","",Team!$D$13) | AI14: =IF(AND($A14="",COUNTA(D14:AG14)=0),"",COUNTIF(D14:AG14,Schichten!$A$2)*Schichten!$F$2+COUNTIF(D14:AG14,Schichten!$A$3)*Schichten!$F$3+COUNTIF(D14:AG14,Schichten!$A$4)*Schichten!$F$4+COUNTIF(D14:AG14,Schichten!$A$5)*Schichten!$F$5+COUNTIF(D14:AG14,Schichten!$A$6)*Schichten!$F$6+COUNTIF(D14:AG14,Schichten!$A$7)*Schichten!$F$7+COUNTIF(D14:AG14,Schichten!$A$8)*Schichten!$F$8) | AJ14: =IF(OR(AH14="",AI14=""),"",AI14-AH14)
A15: =Team!$A$14&"" | B15: =Team!$B$14&"" | C15: =Team!$C$14&"" | AH15: =IF(Team!$D$14="","",Team!$D$14) | AI15: =IF(AND($A15="",COUNTA(D15:AG15)=0),"",COUNTIF(D15:AG15,Schichten!$A$2)*Schichten!$F$2+COUNTIF(D15:AG15,Schichten!$A$3)*Schichten!$F$3+COUNTIF(D15:AG15,Schichten!$A$4)*Schichten!$F$4+COUNTIF(D15:AG15,Schichten!$A$5)*Schichten!$F$5+COUNTIF(D15:AG15,Schichten!$A$6)*Schichten!$F$6+COUNTIF(D15:AG15,Schichten!$A$7)*Schichten!$F$7+COUNTIF(D15:AG15,Schichten!$A$8)*Schichten!$F$8) | AJ15: =IF(OR(AH15="",AI15=""),"",AI15-AH15)
A16: =Team!$A$15&"" | B16: =Team!$B$15&"" | C16: =Team!$C$15&"" | AH16: =IF(Team!$D$15="","",Team!$D$15) | AI16: =IF(AND($A16="",COUNTA(D16:AG16)=0),"",COUNTIF(D16:AG16,Schichten!$A$2)*Schichten!$F$2+COUNTIF(D16:AG16,Schichten!$A$3)*Schichten!$F$3+COUNTIF(D16:AG16,Schichten!$A$4)*Schichten!$F$4+COUNTIF(D16:AG16,Schichten!$A$5)*Schichten!$F$5+COUNTIF(D16:AG16,Schichten!$A$6)*Schichten!$F$6+COUNTIF(D16:AG16,Schichten!$A$7)*Schichten!$F$7+COUNTIF(D16:AG16,Schichten!$A$8)*Schichten!$F$8) | AJ16: =IF(OR(AH16="",AI16=""),"",AI16-AH16)
A17: =Team!$A$16&"" | B17: =Team!$B$16&"" | C17: =Team!$C$16&"" | AH17: =IF(Team!$D$16="","",Team!$D$16) | AI17: =IF(AND($A17="",COUNTA(D17:AG17)=0),"",COUNTIF(D17:AG17,Schichten!$A$2)*Schichten!$F$2+COUNTIF(D17:AG17,Schichten!$A$3)*Schichten!$F$3+COUNTIF(D17:AG17,Schichten!$A$4)*Schichten!$F$4+COUNTIF(D17:AG17,Schichten!$A$5)*Schichten!$F$5+COUNTIF(D17:AG17,Schichten!$A$6)*Schichten!$F$6+COUNTIF(D17:AG17,Schichten!$A$7)*Schichten!$F$7+COUNTIF(D17:AG17,Schichten!$A$8)*Schichten!$F$8) | AJ17: =IF(OR(AH17="",AI17=""),"",AI17-AH17)
A18: =Team!$A$17&"" | B18: =Team!$B$17&"" | C18: =Team!$C$17&"" | AH18: =IF(Team!$D$17="","",Team!$D$17) | AI18: =IF(AND($A18="",COUNTA(D18:AG18)=0),"",COUNTIF(D18:AG18,Schichten!$A$2)*Schichten!$F$2+COUNTIF(D18:AG18,Schichten!$A$3)*Schichten!$F$3+COUNTIF(D18:AG18,Schichten!$A$4)*Schichten!$F$4+COUNTIF(D18:AG18,Schichten!$A$5)*Schichten!$F$5+COUNTIF(D18:AG18,Schichten!$A$6)*Schichten!$F$6+COUNTIF(D18:AG18,Schichten!$A$7)*Schichten!$F$7+COUNTIF(D18:AG18,Schichten!$A$8)*Schichten!$F$8) | AJ18: =IF(OR(AH18="",AI18=""),"",AI18-AH18)
A19: =Team!$A$18&"" | B19: =Team!$B$18&"" | C19: =Team!$C$18&"" | AH19: =IF(Team!$D$18="","",Team!$D$18) | AI19: =IF(AND($A19="",COUNTA(D19:AG19)=0),"",COUNTIF(D19:AG19,Schichten!$A$2)*Schichten!$F$2+COUNTIF(D19:AG19,Schichten!$A$3)*Schichten!$F$3+COUNTIF(D19:AG19,Schichten!$A$4)*Schichten!$F$4+COUNTIF(D19:AG19,Schichten!$A$5)*Schichten!$F$5+COUNTIF(D19:AG19,Schichten!$A$6)*Schichten!$F$6+COUNTIF(D19:AG19,Schichten!$A$7)*Schichten!$F$7+COUNTIF(D19:AG19,Schichten!$A$8)*Schichten!$F$8) | AJ19: =IF(OR(AH19="",AI19=""),"",AI19-AH19)
A20: =Team!$A$19&"" | B20: =Team!$B$19&"" | C20: =Team!$C$19&"" | AH20: =IF(Team!$D$19="","",Team!$D$19) | AI20: =IF(AND($A20="",COUNTA(D20:AG20)=0),"",COUNTIF(D20:AG20,Schichten!$A$2)*Schichten!$F$2+COUNTIF(D20:AG20,Schichten!$A$3)*Schichten!$F$3+COUNTIF(D20:AG20,Schichten!$A$4)*Schichten!$F$4+COUNTIF(D20:AG20,Schichten!$A$5)*Schichten!$F$5+COUNTIF(D20:AG20,Schichten!$A$6)*Schichten!$F$6+COUNTIF(D20:AG20,Schichten!$A$7)*Schichten!$F$7+COUNTIF(D20:AG20,Schichten!$A$8)*Schichten!$F$8) | AJ20: =IF(OR(AH20="",AI20=""),"",AI20-AH20)
A21: =Team!$A$20&"" | B21: =Team!$B$20&"" | C21: =Team!$C$20&"" | AH21: =IF(Team!$D$20="","",Team!$D$20) | AI21: =IF(AND($A21="",COUNTA(D21:AG21)=0),"",COUNTIF(D21:AG21,Schichten!$A$2)*Schichten!$F$2+COUNTIF(D21:AG21,Schichten!$A$3)*Schichten!$F$3+COUNTIF(D21:AG21,Schichten!$A$4)*Schichten!$F$4+COUNTIF(D21:AG21,Schichten!$A$5)*Schichten!$F$5+COUNTIF(D21:AG21,Schichten!$A$6)*Schichten!$F$6+COUNTIF(D21:AG21,Schichten!$A$7)*Schichten!$F$7+COUNTIF(D21:AG21,Schichten!$A$8)*Schichten!$F$8) | AJ21: =IF(OR(AH21="",AI21=""),"",AI21-AH21)
A23: Keine bundesweiten Feiertage im Juni 2027.
A25: Kostenlose Vorlage von www.crew-active.de/ressourcen/blog/dienstplan-vorlage-excel/

Sheet Juli
A1: Dienstplan Juli 2027
A2: Pro Tag ein Schichtkürzel aus der Liste wählen: F Früh, S Spät, N Nacht, T Tag, U Urlaub, K Krank, FR Frei. Zeiten und Stunden stehen im Blatt „Schichten“, Namen und Soll-Stunden im Blatt „Team“. Grau: Samstag, Sonntag und bundesweite Feiertage.
D4: KW 26 | H4: KW 27 | O4: KW 28 | V4: KW 29 | AC4: KW 30
A5: Mitarbeiter/in | B5: Personalnr. | C5: Qualifikation | D5: 1 | E5: 2 | F5: 3 | G5: 4 | H5: 5 | I5: 6 | J5: 7 | K5: 8 | L5: 9 | M5: 10 | N5: 11 | O5: 12 | P5: 13 | Q5: 14 | R5: 15 | S5: 16 | T5: 17 | U5: 18 | V5: 19 | W5: 20 | X5: 21 | Y5: 22 | Z5: 23 | AA5: 24 | AB5: 25 | AC5: 26 | AD5: 27 | AE5: 28 | AF5: 29 | AG5: 30 | AH5: 31 | AI5: Soll-Std. | AJ5: Ist-Std. | AK5: Differenz
D6: Do | E6: Fr | F6: Sa | G6: So | H6: Mo | I6: Di | J6: Mi | K6: Do | L6: Fr | M6: Sa | N6: So | O6: Mo | P6: Di | Q6: Mi | R6: Do | S6: Fr | T6: Sa | U6: So | V6: Mo | W6: Di | X6: Mi | Y6: Do | Z6: Fr | AA6: Sa | AB6: So | AC6: Mo | AD6: Di | AE6: Mi | AF6: Do | AG6: Fr | AH6: Sa
A7: =Team!$A$6&"" | B7: =Team!$B$6&"" | C7: =Team!$C$6&"" | AI7: =IF(Team!$D$6="","",Team!$D$6) | AJ7: =IF(AND($A7="",COUNTA(D7:AH7)=0),"",COUNTIF(D7:AH7,Schichten!$A$2)*Schichten!$F$2+COUNTIF(D7:AH7,Schichten!$A$3)*Schichten!$F$3+COUNTIF(D7:AH7,Schichten!$A$4)*Schichten!$F$4+COUNTIF(D7:AH7,Schichten!$A$5)*Schichten!$F$5+COUNTIF(D7:AH7,Schichten!$A$6)*Schichten!$F$6+COUNTIF(D7:AH7,Schichten!$A$7)*Schichten!$F$7+COUNTIF(D7:AH7,Schichten!$A$8)*Schichten!$F$8) | AK7: =IF(OR(AI7="",AJ7=""),"",AJ7-AI7)
A8: =Team!$A$7&"" | B8: =Team!$B$7&"" | C8: =Team!$C$7&"" | AI8: =IF(Team!$D$7="","",Team!$D$7) | AJ8: =IF(AND($A8="",COUNTA(D8:AH8)=0),"",COUNTIF(D8:AH8,Schichten!$A$2)*Schichten!$F$2+COUNTIF(D8:AH8,Schichten!$A$3)*Schichten!$F$3+COUNTIF(D8:AH8,Schichten!$A$4)*Schichten!$F$4+COUNTIF(D8:AH8,Schichten!$A$5)*Schichten!$F$5+COUNTIF(D8:AH8,Schichten!$A$6)*Schichten!$F$6+COUNTIF(D8:AH8,Schichten!$A$7)*Schichten!$F$7+COUNTIF(D8:AH8,Schichten!$A$8)*Schichten!$F$8) | AK8: =IF(OR(AI8="",AJ8=""),"",AJ8-AI8)
A9: =Team!$A$8&"" | B9: =Team!$B$8&"" | C9: =Team!$C$8&"" | AI9: =IF(Team!$D$8="","",Team!$D$8) | AJ9: =IF(AND($A9="",COUNTA(D9:AH9)=0),"",COUNTIF(D9:AH9,Schichten!$A$2)*Schichten!$F$2+COUNTIF(D9:AH9,Schichten!$A$3)*Schichten!$F$3+COUNTIF(D9:AH9,Schichten!$A$4)*Schichten!$F$4+COUNTIF(D9:AH9,Schichten!$A$5)*Schichten!$F$5+COUNTIF(D9:AH9,Schichten!$A$6)*Schichten!$F$6+COUNTIF(D9:AH9,Schichten!$A$7)*Schichten!$F$7+COUNTIF(D9:AH9,Schichten!$A$8)*Schichten!$F$8) | AK9: =IF(OR(AI9="",AJ9=""),"",AJ9-AI9)
A10: =Team!$A$9&"" | B10: =Team!$B$9&"" | C10: =Team!$C$9&"" | AI10: =IF(Team!$D$9="","",Team!$D$9) | AJ10: =IF(AND($A10="",COUNTA(D10:AH10)=0),"",COUNTIF(D10:AH10,Schichten!$A$2)*Schichten!$F$2+COUNTIF(D10:AH10,Schichten!$A$3)*Schichten!$F$3+COUNTIF(D10:AH10,Schichten!$A$4)*Schichten!$F$4+COUNTIF(D10:AH10,Schichten!$A$5)*Schichten!$F$5+COUNTIF(D10:AH10,Schichten!$A$6)*Schichten!$F$6+COUNTIF(D10:AH10,Schichten!$A$7)*Schichten!$F$7+COUNTIF(D10:AH10,Schichten!$A$8)*Schichten!$F$8) | AK10: =IF(OR(AI10="",AJ10=""),"",AJ10-AI10)
A11: =Team!$A$10&"" | B11: =Team!$B$10&"" | C11: =Team!$C$10&"" | AI11: =IF(Team!$D$10="","",Team!$D$10) | AJ11: =IF(AND($A11="",COUNTA(D11:AH11)=0),"",COUNTIF(D11:AH11,Schichten!$A$2)*Schichten!$F$2+COUNTIF(D11:AH11,Schichten!$A$3)*Schichten!$F$3+COUNTIF(D11:AH11,Schichten!$A$4)*Schichten!$F$4+COUNTIF(D11:AH11,Schichten!$A$5)*Schichten!$F$5+COUNTIF(D11:AH11,Schichten!$A$6)*Schichten!$F$6+COUNTIF(D11:AH11,Schichten!$A$7)*Schichten!$F$7+COUNTIF(D11:AH11,Schichten!$A$8)*Schichten!$F$8) | AK11: =IF(OR(AI11="",AJ11=""),"",AJ11-AI11)
A12: =Team!$A$11&"" | B12: =Team!$B$11&"" | C12: =Team!$C$11&"" | AI12: =IF(Team!$D$11="","",Team!$D$11) | AJ12: =IF(AND($A12="",COUNTA(D12:AH12)=0),"",COUNTIF(D12:AH12,Schichten!$A$2)*Schichten!$F$2+COUNTIF(D12:AH12,Schichten!$A$3)*Schichten!$F$3+COUNTIF(D12:AH12,Schichten!$A$4)*Schichten!$F$4+COUNTIF(D12:AH12,Schichten!$A$5)*Schichten!$F$5+COUNTIF(D12:AH12,Schichten!$A$6)*Schichten!$F$6+COUNTIF(D12:AH12,Schichten!$A$7)*Schichten!$F$7+COUNTIF(D12:AH12,Schichten!$A$8)*Schichten!$F$8) | AK12: =IF(OR(AI12="",AJ12=""),"",AJ12-AI12)
A13: =Team!$A$12&"" | B13: =Team!$B$12&"" | C13: =Team!$C$12&"" | AI13: =IF(Team!$D$12="","",Team!$D$12) | AJ13: =IF(AND($A13="",COUNTA(D13:AH13)=0),"",COUNTIF(D13:AH13,Schichten!$A$2)*Schichten!$F$2+COUNTIF(D13:AH13,Schichten!$A$3)*Schichten!$F$3+COUNTIF(D13:AH13,Schichten!$A$4)*Schichten!$F$4+COUNTIF(D13:AH13,Schichten!$A$5)*Schichten!$F$5+COUNTIF(D13:AH13,Schichten!$A$6)*Schichten!$F$6+COUNTIF(D13:AH13,Schichten!$A$7)*Schichten!$F$7+COUNTIF(D13:AH13,Schichten!$A$8)*Schichten!$F$8) | AK13: =IF(OR(AI13="",AJ13=""),"",AJ13-AI13)
A14: =Team!$A$13&"" | B14: =Team!$B$13&"" | C14: =Team!$C$13&"" | AI14: =IF(Team!$D$13="","",Team!$D$13) | AJ14: =IF(AND($A14="",COUNTA(D14:AH14)=0),"",COUNTIF(D14:AH14,Schichten!$A$2)*Schichten!$F$2+COUNTIF(D14:AH14,Schichten!$A$3)*Schichten!$F$3+COUNTIF(D14:AH14,Schichten!$A$4)*Schichten!$F$4+COUNTIF(D14:AH14,Schichten!$A$5)*Schichten!$F$5+COUNTIF(D14:AH14,Schichten!$A$6)*Schichten!$F$6+COUNTIF(D14:AH14,Schichten!$A$7)*Schichten!$F$7+COUNTIF(D14:AH14,Schichten!$A$8)*Schichten!$F$8) | AK14: =IF(OR(AI14="",AJ14=""),"",AJ14-AI14)
A15: =Team!$A$14&"" | B15: =Team!$B$14&"" | C15: =Team!$C$14&"" | AI15: =IF(Team!$D$14="","",Team!$D$14) | AJ15: =IF(AND($A15="",COUNTA(D15:AH15)=0),"",COUNTIF(D15:AH15,Schichten!$A$2)*Schichten!$F$2+COUNTIF(D15:AH15,Schichten!$A$3)*Schichten!$F$3+COUNTIF(D15:AH15,Schichten!$A$4)*Schichten!$F$4+COUNTIF(D15:AH15,Schichten!$A$5)*Schichten!$F$5+COUNTIF(D15:AH15,Schichten!$A$6)*Schichten!$F$6+COUNTIF(D15:AH15,Schichten!$A$7)*Schichten!$F$7+COUNTIF(D15:AH15,Schichten!$A$8)*Schichten!$F$8) | AK15: =IF(OR(AI15="",AJ15=""),"",AJ15-AI15)
A16: =Team!$A$15&"" | B16: =Team!$B$15&"" | C16: =Team!$C$15&"" | AI16: =IF(Team!$D$15="","",Team!$D$15) | AJ16: =IF(AND($A16="",COUNTA(D16:AH16)=0),"",COUNTIF(D16:AH16,Schichten!$A$2)*Schichten!$F$2+COUNTIF(D16:AH16,Schichten!$A$3)*Schichten!$F$3+COUNTIF(D16:AH16,Schichten!$A$4)*Schichten!$F$4+COUNTIF(D16:AH16,Schichten!$A$5)*Schichten!$F$5+COUNTIF(D16:AH16,Schichten!$A$6)*Schichten!$F$6+COUNTIF(D16:AH16,Schichten!$A$7)*Schichten!$F$7+COUNTIF(D16:AH16,Schichten!$A$8)*Schichten!$F$8) | AK16: =IF(OR(AI16="",AJ16=""),"",AJ16-AI16)
A17: =Team!$A$16&"" | B17: =Team!$B$16&"" | C17: =Team!$C$16&"" | AI17: =IF(Team!$D$16="","",Team!$D$16) | AJ17: =IF(AND($A17="",COUNTA(D17:AH17)=0),"",COUNTIF(D17:AH17,Schichten!$A$2)*Schichten!$F$2+COUNTIF(D17:AH17,Schichten!$A$3)*Schichten!$F$3+COUNTIF(D17:AH17,Schichten!$A$4)*Schichten!$F$4+COUNTIF(D17:AH17,Schichten!$A$5)*Schichten!$F$5+COUNTIF(D17:AH17,Schichten!$A$6)*Schichten!$F$6+COUNTIF(D17:AH17,Schichten!$A$7)*Schichten!$F$7+COUNTIF(D17:AH17,Schichten!$A$8)*Schichten!$F$8) | AK17: =IF(OR(AI17="",AJ17=""),"",AJ17-AI17)
A18: =Team!$A$17&"" | B18: =Team!$B$17&"" | C18: =Team!$C$17&"" | AI18: =IF(Team!$D$17="","",Team!$D$17) | AJ18: =IF(AND($A18="",COUNTA(D18:AH18)=0),"",COUNTIF(D18:AH18,Schichten!$A$2)*Schichten!$F$2+COUNTIF(D18:AH18,Schichten!$A$3)*Schichten!$F$3+COUNTIF(D18:AH18,Schichten!$A$4)*Schichten!$F$4+COUNTIF(D18:AH18,Schichten!$A$5)*Schichten!$F$5+COUNTIF(D18:AH18,Schichten!$A$6)*Schichten!$F$6+COUNTIF(D18:AH18,Schichten!$A$7)*Schichten!$F$7+COUNTIF(D18:AH18,Schichten!$A$8)*Schichten!$F$8) | AK18: =IF(OR(AI18="",AJ18=""),"",AJ18-AI18)
A19: =Team!$A$18&"" | B19: =Team!$B$18&"" | C19: =Team!$C$18&"" | AI19: =IF(Team!$D$18="","",Team!$D$18) | AJ19: =IF(AND($A19="",COUNTA(D19:AH19)=0),"",COUNTIF(D19:AH19,Schichten!$A$2)*Schichten!$F$2+COUNTIF(D19:AH19,Schichten!$A$3)*Schichten!$F$3+COUNTIF(D19:AH19,Schichten!$A$4)*Schichten!$F$4+COUNTIF(D19:AH19,Schichten!$A$5)*Schichten!$F$5+COUNTIF(D19:AH19,Schichten!$A$6)*Schichten!$F$6+COUNTIF(D19:AH19,Schichten!$A$7)*Schichten!$F$7+COUNTIF(D19:AH19,Schichten!$A$8)*Schichten!$F$8) | AK19: =IF(OR(AI19="",AJ19=""),"",AJ19-AI19)
A20: =Team!$A$19&"" | B20: =Team!$B$19&"" | C20: =Team!$C$19&"" | AI20: =IF(Team!$D$19="","",Team!$D$19) | AJ20: =IF(AND($A20="",COUNTA(D20:AH20)=0),"",COUNTIF(D20:AH20,Schichten!$A$2)*Schichten!$F$2+COUNTIF(D20:AH20,Schichten!$A$3)*Schichten!$F$3+COUNTIF(D20:AH20,Schichten!$A$4)*Schichten!$F$4+COUNTIF(D20:AH20,Schichten!$A$5)*Schichten!$F$5+COUNTIF(D20:AH20,Schichten!$A$6)*Schichten!$F$6+COUNTIF(D20:AH20,Schichten!$A$7)*Schichten!$F$7+COUNTIF(D20:AH20,Schichten!$A$8)*Schichten!$F$8) | AK20: =IF(OR(AI20="",AJ20=""),"",AJ20-AI20)
A21: =Team!$A$20&"" | B21: =Team!$B$20&"" | C21: =Team!$C$20&"" | AI21: =IF(Team!$D$20="","",Team!$D$20) | AJ21: =IF(AND($A21="",COUNTA(D21:AH21)=0),"",COUNTIF(D21:AH21,Schichten!$A$2)*Schichten!$F$2+COUNTIF(D21:AH21,Schichten!$A$3)*Schichten!$F$3+COUNTIF(D21:AH21,Schichten!$A$4)*Schichten!$F$4+COUNTIF(D21:AH21,Schichten!$A$5)*Schichten!$F$5+COUNTIF(D21:AH21,Schichten!$A$6)*Schichten!$F$6+COUNTIF(D21:AH21,Schichten!$A$7)*Schichten!$F$7+COUNTIF(D21:AH21,Schichten!$A$8)*Schichten!$F$8) | AK21: =IF(OR(AI21="",AJ21=""),"",AJ21-AI21)
A23: Keine bundesweiten Feiertage im Juli 2027.
A25: Kostenlose Vorlage von www.crew-active.de/ressourcen/blog/dienstplan-vorlage-excel/

Sheet August
A1: Dienstplan August 2027
A2: Pro Tag ein Schichtkürzel aus der Liste wählen: F Früh, S Spät, N Nacht, T Tag, U Urlaub, K Krank, FR Frei. Zeiten und Stunden stehen im Blatt „Schichten“, Namen und Soll-Stunden im Blatt „Team“. Grau: Samstag, Sonntag und bundesweite Feiertage.
D4: KW 30 | E4: KW 31 | L4: KW 32 | S4: KW 33 | Z4: KW 34 | AG4: KW 35
A5: Mitarbeiter/in | B5: Personalnr. | C5: Qualifikation | D5: 1 | E5: 2 | F5: 3 | G5: 4 | H5: 5 | I5: 6 | J5: 7 | K5: 8 | L5: 9 | M5: 10 | N5: 11 | O5: 12 | P5: 13 | Q5: 14 | R5: 15 | S5: 16 | T5: 17 | U5: 18 | V5: 19 | W5: 20 | X5: 21 | Y5: 22 | Z5: 23 | AA5: 24 | AB5: 25 | AC5: 26 | AD5: 27 | AE5: 28 | AF5: 29 | AG5: 30 | AH5: 31 | AI5: Soll-Std. | AJ5: Ist-Std. | AK5: Differenz
D6: So | E6: Mo | F6: Di | G6: Mi | H6: Do | I6: Fr | J6: Sa | K6: So | L6: Mo | M6: Di | N6: Mi | O6: Do | P6: Fr | Q6: Sa | R6: So | S6: Mo | T6: Di | U6: Mi | V6: Do | W6: Fr | X6: Sa | Y6: So | Z6: Mo | AA6: Di | AB6: Mi | AC6: Do | AD6: Fr | AE6: Sa | AF6: So | AG6: Mo | AH6: Di
A7: =Team!$A$6&"" | B7: =Team!$B$6&"" | C7: =Team!$C$6&"" | AI7: =IF(Team!$D$6="","",Team!$D$6) | AJ7: =IF(AND($A7="",COUNTA(D7:AH7)=0),"",COUNTIF(D7:AH7,Schichten!$A$2)*Schichten!$F$2+COUNTIF(D7:AH7,Schichten!$A$3)*Schichten!$F$3+COUNTIF(D7:AH7,Schichten!$A$4)*Schichten!$F$4+COUNTIF(D7:AH7,Schichten!$A$5)*Schichten!$F$5+COUNTIF(D7:AH7,Schichten!$A$6)*Schichten!$F$6+COUNTIF(D7:AH7,Schichten!$A$7)*Schichten!$F$7+COUNTIF(D7:AH7,Schichten!$A$8)*Schichten!$F$8) | AK7: =IF(OR(AI7="",AJ7=""),"",AJ7-AI7)
A8: =Team!$A$7&"" | B8: =Team!$B$7&"" | C8: =Team!$C$7&"" | AI8: =IF(Team!$D$7="","",Team!$D$7) | AJ8: =IF(AND($A8="",COUNTA(D8:AH8)=0),"",COUNTIF(D8:AH8,Schichten!$A$2)*Schichten!$F$2+COUNTIF(D8:AH8,Schichten!$A$3)*Schichten!$F$3+COUNTIF(D8:AH8,Schichten!$A$4)*Schichten!$F$4+COUNTIF(D8:AH8,Schichten!$A$5)*Schichten!$F$5+COUNTIF(D8:AH8,Schichten!$A$6)*Schichten!$F$6+COUNTIF(D8:AH8,Schichten!$A$7)*Schichten!$F$7+COUNTIF(D8:AH8,Schichten!$A$8)*Schichten!$F$8) | AK8: =IF(OR(AI8="",AJ8=""),"",AJ8-AI8)
A9: =Team!$A$8&"" | B9: =Team!$B$8&"" | C9: =Team!$C$8&"" | AI9: =IF(Team!$D$8="","",Team!$D$8) | AJ9: =IF(AND($A9="",COUNTA(D9:AH9)=0),"",COUNTIF(D9:AH9,Schichten!$A$2)*Schichten!$F$2+COUNTIF(D9:AH9,Schichten!$A$3)*Schichten!$F$3+COUNTIF(D9:AH9,Schichten!$A$4)*Schichten!$F$4+COUNTIF(D9:AH9,Schichten!$A$5)*Schichten!$F$5+COUNTIF(D9:AH9,Schichten!$A$6)*Schichten!$F$6+COUNTIF(D9:AH9,Schichten!$A$7)*Schichten!$F$7+COUNTIF(D9:AH9,Schichten!$A$8)*Schichten!$F$8) | AK9: =IF(OR(AI9="",AJ9=""),"",AJ9-AI9)
A10: =Team!$A$9&"" | B10: =Team!$B$9&"" | C10: =Team!$C$9&"" | AI10: =IF(Team!$D$9="","",Team!$D$9) | AJ10: =IF(AND($A10="",COUNTA(D10:AH10)=0),"",COUNTIF(D10:AH10,Schichten!$A$2)*Schichten!$F$2+COUNTIF(D10:AH10,Schichten!$A$3)*Schichten!$F$3+COUNTIF(D10:AH10,Schichten!$A$4)*Schichten!$F$4+COUNTIF(D10:AH10,Schichten!$A$5)*Schichten!$F$5+COUNTIF(D10:AH10,Schichten!$A$6)*Schichten!$F$6+COUNTIF(D10:AH10,Schichten!$A$7)*Schichten!$F$7+COUNTIF(D10:AH10,Schichten!$A$8)*Schichten!$F$8) | AK10: =IF(OR(AI10="",AJ10=""),"",AJ10-AI10)
A11: =Team!$A$10&"" | B11: =Team!$B$10&"" | C11: =Team!$C$10&"" | AI11: =IF(Team!$D$10="","",Team!$D$10) | AJ11: =IF(AND($A11="",COUNTA(D11:AH11)=0),"",COUNTIF(D11:AH11,Schichten!$A$2)*Schichten!$F$2+COUNTIF(D11:AH11,Schichten!$A$3)*Schichten!$F$3+COUNTIF(D11:AH11,Schichten!$A$4)*Schichten!$F$4+COUNTIF(D11:AH11,Schichten!$A$5)*Schichten!$F$5+COUNTIF(D11:AH11,Schichten!$A$6)*Schichten!$F$6+COUNTIF(D11:AH11,Schichten!$A$7)*Schichten!$F$7+COUNTIF(D11:AH11,Schichten!$A$8)*Schichten!$F$8) | AK11: =IF(OR(AI11="",AJ11=""),"",AJ11-AI11)
A12: =Team!$A$11&"" | B12: =Team!$B$11&"" | C12: =Team!$C$11&"" | AI12: =IF(Team!$D$11="","",Team!$D$11) | AJ12: =IF(AND($A12="",COUNTA(D12:AH12)=0),"",COUNTIF(D12:AH12,Schichten!$A$2)*Schichten!$F$2+COUNTIF(D12:AH12,Schichten!$A$3)*Schichten!$F$3+COUNTIF(D12:AH12,Schichten!$A$4)*Schichten!$F$4+COUNTIF(D12:AH12,Schichten!$A$5)*Schichten!$F$5+COUNTIF(D12:AH12,Schichten!$A$6)*Schichten!$F$6+COUNTIF(D12:AH12,Schichten!$A$7)*Schichten!$F$7+COUNTIF(D12:AH12,Schichten!$A$8)*Schichten!$F$8) | AK12: =IF(OR(AI12="",AJ12=""),"",AJ12-AI12)
A13: =Team!$A$12&"" | B13: =Team!$B$12&"" | C13: =Team!$C$12&"" | AI13: =IF(Team!$D$12="","",Team!$D$12) | AJ13: =IF(AND($A13="",COUNTA(D13:AH13)=0),"",COUNTIF(D13:AH13,Schichten!$A$2)*Schichten!$F$2+COUNTIF(D13:AH13,Schichten!$A$3)*Schichten!$F$3+COUNTIF(D13:AH13,Schichten!$A$4)*Schichten!$F$4+COUNTIF(D13:AH13,Schichten!$A$5)*Schichten!$F$5+COUNTIF(D13:AH13,Schichten!$A$6)*Schichten!$F$6+COUNTIF(D13:AH13,Schichten!$A$7)*Schichten!$F$7+COUNTIF(D13:AH13,Schichten!$A$8)*Schichten!$F$8) | AK13: =IF(OR(AI13="",AJ13=""),"",AJ13-AI13)
A14: =Team!$A$13&"" | B14: =Team!$B$13&"" | C14: =Team!$C$13&"" | AI14: =IF(Team!$D$13="","",Team!$D$13) | AJ14: =IF(AND($A14="",COUNTA(D14:AH14)=0),"",COUNTIF(D14:AH14,Schichten!$A$2)*Schichten!$F$2+COUNTIF(D14:AH14,Schichten!$A$3)*Schichten!$F$3+COUNTIF(D14:AH14,Schichten!$A$4)*Schichten!$F$4+COUNTIF(D14:AH14,Schichten!$A$5)*Schichten!$F$5+COUNTIF(D14:AH14,Schichten!$A$6)*Schichten!$F$6+COUNTIF(D14:AH14,Schichten!$A$7)*Schichten!$F$7+COUNTIF(D14:AH14,Schichten!$A$8)*Schichten!$F$8) | AK14: =IF(OR(AI14="",AJ14=""),"",AJ14-AI14)
A15: =Team!$A$14&"" | B15: =Team!$B$14&"" | C15: =Team!$C$14&"" | AI15: =IF(Team!$D$14="","",Team!$D$14) | AJ15: =IF(AND($A15="",COUNTA(D15:AH15)=0),"",COUNTIF(D15:AH15,Schichten!$A$2)*Schichten!$F$2+COUNTIF(D15:AH15,Schichten!$A$3)*Schichten!$F$3+COUNTIF(D15:AH15,Schichten!$A$4)*Schichten!$F$4+COUNTIF(D15:AH15,Schichten!$A$5)*Schichten!$F$5+COUNTIF(D15:AH15,Schichten!$A$6)*Schichten!$F$6+COUNTIF(D15:AH15,Schichten!$A$7)*Schichten!$F$7+COUNTIF(D15:AH15,Schichten!$A$8)*Schichten!$F$8) | AK15: =IF(OR(AI15="",AJ15=""),"",AJ15-AI15)
A16: =Team!$A$15&"" | B16: =Team!$B$15&"" | C16: =Team!$C$15&"" | AI16: =IF(Team!$D$15="","",Team!$D$15) | AJ16: =IF(AND($A16="",COUNTA(D16:AH16)=0),"",COUNTIF(D16:AH16,Schichten!$A$2)*Schichten!$F$2+COUNTIF(D16:AH16,Schichten!$A$3)*Schichten!$F$3+COUNTIF(D16:AH16,Schichten!$A$4)*Schichten!$F$4+COUNTIF(D16:AH16,Schichten!$A$5)*Schichten!$F$5+COUNTIF(D16:AH16,Schichten!$A$6)*Schichten!$F$6+COUNTIF(D16:AH16,Schichten!$A$7)*Schichten!$F$7+COUNTIF(D16:AH16,Schichten!$A$8)*Schichten!$F$8) | AK16: =IF(OR(AI16="",AJ16=""),"",AJ16-AI16)
A17: =Team!$A$16&"" | B17: =Team!$B$16&"" | C17: =Team!$C$16&"" | AI17: =IF(Team!$D$16="","",Team!$D$16) | AJ17: =IF(AND($A17="",COUNTA(D17:AH17)=0),"",COUNTIF(D17:AH17,Schichten!$A$2)*Schichten!$F$2+COUNTIF(D17:AH17,Schichten!$A$3)*Schichten!$F$3+COUNTIF(D17:AH17,Schichten!$A$4)*Schichten!$F$4+COUNTIF(D17:AH17,Schichten!$A$5)*Schichten!$F$5+COUNTIF(D17:AH17,Schichten!$A$6)*Schichten!$F$6+COUNTIF(D17:AH17,Schichten!$A$7)*Schichten!$F$7+COUNTIF(D17:AH17,Schichten!$A$8)*Schichten!$F$8) | AK17: =IF(OR(AI17="",AJ17=""),"",AJ17-AI17)
A18: =Team!$A$17&"" | B18: =Team!$B$17&"" | C18: =Team!$C$17&"" | AI18: =IF(Team!$D$17="","",Team!$D$17) | AJ18: =IF(AND($A18="",COUNTA(D18:AH18)=0),"",COUNTIF(D18:AH18,Schichten!$A$2)*Schichten!$F$2+COUNTIF(D18:AH18,Schichten!$A$3)*Schichten!$F$3+COUNTIF(D18:AH18,Schichten!$A$4)*Schichten!$F$4+COUNTIF(D18:AH18,Schichten!$A$5)*Schichten!$F$5+COUNTIF(D18:AH18,Schichten!$A$6)*Schichten!$F$6+COUNTIF(D18:AH18,Schichten!$A$7)*Schichten!$F$7+COUNTIF(D18:AH18,Schichten!$A$8)*Schichten!$F$8) | AK18: =IF(OR(AI18="",AJ18=""),"",AJ18-AI18)
A19: =Team!$A$18&"" | B19: =Team!$B$18&"" | C19: =Team!$C$18&"" | AI19: =IF(Team!$D$18="","",Team!$D$18) | AJ19: =IF(AND($A19="",COUNTA(D19:AH19)=0),"",COUNTIF(D19:AH19,Schichten!$A$2)*Schichten!$F$2+COUNTIF(D19:AH19,Schichten!$A$3)*Schichten!$F$3+COUNTIF(D19:AH19,Schichten!$A$4)*Schichten!$F$4+COUNTIF(D19:AH19,Schichten!$A$5)*Schichten!$F$5+COUNTIF(D19:AH19,Schichten!$A$6)*Schichten!$F$6+COUNTIF(D19:AH19,Schichten!$A$7)*Schichten!$F$7+COUNTIF(D19:AH19,Schichten!$A$8)*Schichten!$F$8) | AK19: =IF(OR(AI19="",AJ19=""),"",AJ19-AI19)
A20: =Team!$A$19&"" | B20: =Team!$B$19&"" | C20: =Team!$C$19&"" | AI20: =IF(Team!$D$19="","",Team!$D$19) | AJ20: =IF(AND($A20="",COUNTA(D20:AH20)=0),"",COUNTIF(D20:AH20,Schichten!$A$2)*Schichten!$F$2+COUNTIF(D20:AH20,Schichten!$A$3)*Schichten!$F$3+COUNTIF(D20:AH20,Schichten!$A$4)*Schichten!$F$4+COUNTIF(D20:AH20,Schichten!$A$5)*Schichten!$F$5+COUNTIF(D20:AH20,Schichten!$A$6)*Schichten!$F$6+COUNTIF(D20:AH20,Schichten!$A$7)*Schichten!$F$7+COUNTIF(D20:AH20,Schichten!$A$8)*Schichten!$F$8) | AK20: =IF(OR(AI20="",AJ20=""),"",AJ20-AI20)
A21: =Team!$A$20&"" | B21: =Team!$B$20&"" | C21: =Team!$C$20&"" | AI21: =IF(Team!$D$20="","",Team!$D$20) | AJ21: =IF(AND($A21="",COUNTA(D21:AH21)=0),"",COUNTIF(D21:AH21,Schichten!$A$2)*Schichten!$F$2+COUNTIF(D21:AH21,Schichten!$A$3)*Schichten!$F$3+COUNTIF(D21:AH21,Schichten!$A$4)*Schichten!$F$4+COUNTIF(D21:AH21,Schichten!$A$5)*Schichten!$F$5+COUNTIF(D21:AH21,Schichten!$A$6)*Schichten!$F$6+COUNTIF(D21:AH21,Schichten!$A$7)*Schichten!$F$7+COUNTIF(D21:AH21,Schichten!$A$8)*Schichten!$F$8) | AK21: =IF(OR(AI21="",AJ21=""),"",AJ21-AI21)
A23: Keine bundesweiten Feiertage im August 2027.
A24: Nur in einigen Bundesländern, im Plan nicht markiert: So 15.08. Mariä Himmelfahrt (SL)
A25: Nur in einzelnen Gemeinden, im Plan nicht markiert: So 08.08. Augsburger Friedensfest (Teile von BY), So 15.08. Mariä Himmelfahrt (Teile von BY)
A27: Kostenlose Vorlage von www.crew-active.de/ressourcen/blog/dienstplan-vorlage-excel/

Sheet September
A1: Dienstplan September 2027
A2: Pro Tag ein Schichtkürzel aus der Liste wählen: F Früh, S Spät, N Nacht, T Tag, U Urlaub, K Krank, FR Frei. Zeiten und Stunden stehen im Blatt „Schichten“, Namen und Soll-Stunden im Blatt „Team“. Grau: Samstag, Sonntag und bundesweite Feiertage.
D4: KW 35 | I4: KW 36 | P4: KW 37 | W4: KW 38 | AD4: KW 39
A5: Mitarbeiter/in | B5: Personalnr. | C5: Qualifikation | D5: 1 | E5: 2 | F5: 3 | G5: 4 | H5: 5 | I5: 6 | J5: 7 | K5: 8 | L5: 9 | M5: 10 | N5: 11 | O5: 12 | P5: 13 | Q5: 14 | R5: 15 | S5: 16 | T5: 17 | U5: 18 | V5: 19 | W5: 20 | X5: 21 | Y5: 22 | Z5: 23 | AA5: 24 | AB5: 25 | AC5: 26 | AD5: 27 | AE5: 28 | AF5: 29 | AG5: 30 | AH5: Soll-Std. | AI5: Ist-Std. | AJ5: Differenz
D6: Mi | E6: Do | F6: Fr | G6: Sa | H6: So | I6: Mo | J6: Di | K6: Mi | L6: Do | M6: Fr | N6: Sa | O6: So | P6: Mo | Q6: Di | R6: Mi | S6: Do | T6: Fr | U6: Sa | V6: So | W6: Mo | X6: Di | Y6: Mi | Z6: Do | AA6: Fr | AB6: Sa | AC6: So | AD6: Mo | AE6: Di | AF6: Mi | AG6: Do
A7: =Team!$A$6&"" | B7: =Team!$B$6&"" | C7: =Team!$C$6&"" | AH7: =IF(Team!$D$6="","",Team!$D$6) | AI7: =IF(AND($A7="",COUNTA(D7:AG7)=0),"",COUNTIF(D7:AG7,Schichten!$A$2)*Schichten!$F$2+COUNTIF(D7:AG7,Schichten!$A$3)*Schichten!$F$3+COUNTIF(D7:AG7,Schichten!$A$4)*Schichten!$F$4+COUNTIF(D7:AG7,Schichten!$A$5)*Schichten!$F$5+COUNTIF(D7:AG7,Schichten!$A$6)*Schichten!$F$6+COUNTIF(D7:AG7,Schichten!$A$7)*Schichten!$F$7+COUNTIF(D7:AG7,Schichten!$A$8)*Schichten!$F$8) | AJ7: =IF(OR(AH7="",AI7=""),"",AI7-AH7)
A8: =Team!$A$7&"" | B8: =Team!$B$7&"" | C8: =Team!$C$7&"" | AH8: =IF(Team!$D$7="","",Team!$D$7) | AI8: =IF(AND($A8="",COUNTA(D8:AG8)=0),"",COUNTIF(D8:AG8,Schichten!$A$2)*Schichten!$F$2+COUNTIF(D8:AG8,Schichten!$A$3)*Schichten!$F$3+COUNTIF(D8:AG8,Schichten!$A$4)*Schichten!$F$4+COUNTIF(D8:AG8,Schichten!$A$5)*Schichten!$F$5+COUNTIF(D8:AG8,Schichten!$A$6)*Schichten!$F$6+COUNTIF(D8:AG8,Schichten!$A$7)*Schichten!$F$7+COUNTIF(D8:AG8,Schichten!$A$8)*Schichten!$F$8) | AJ8: =IF(OR(AH8="",AI8=""),"",AI8-AH8)
A9: =Team!$A$8&"" | B9: =Team!$B$8&"" | C9: =Team!$C$8&"" | AH9: =IF(Team!$D$8="","",Team!$D$8) | AI9: =IF(AND($A9="",COUNTA(D9:AG9)=0),"",COUNTIF(D9:AG9,Schichten!$A$2)*Schichten!$F$2+COUNTIF(D9:AG9,Schichten!$A$3)*Schichten!$F$3+COUNTIF(D9:AG9,Schichten!$A$4)*Schichten!$F$4+COUNTIF(D9:AG9,Schichten!$A$5)*Schichten!$F$5+COUNTIF(D9:AG9,Schichten!$A$6)*Schichten!$F$6+COUNTIF(D9:AG9,Schichten!$A$7)*Schichten!$F$7+COUNTIF(D9:AG9,Schichten!$A$8)*Schichten!$F$8) | AJ9: =IF(OR(AH9="",AI9=""),"",AI9-AH9)
A10: =Team!$A$9&"" | B10: =Team!$B$9&"" | C10: =Team!$C$9&"" | AH10: =IF(Team!$D$9="","",Team!$D$9) | AI10: =IF(AND($A10="",COUNTA(D10:AG10)=0),"",COUNTIF(D10:AG10,Schichten!$A$2)*Schichten!$F$2+COUNTIF(D10:AG10,Schichten!$A$3)*Schichten!$F$3+COUNTIF(D10:AG10,Schichten!$A$4)*Schichten!$F$4+COUNTIF(D10:AG10,Schichten!$A$5)*Schichten!$F$5+COUNTIF(D10:AG10,Schichten!$A$6)*Schichten!$F$6+COUNTIF(D10:AG10,Schichten!$A$7)*Schichten!$F$7+COUNTIF(D10:AG10,Schichten!$A$8)*Schichten!$F$8) | AJ10: =IF(OR(AH10="",AI10=""),"",AI10-AH10)
A11: =Team!$A$10&"" | B11: =Team!$B$10&"" | C11: =Team!$C$10&"" | AH11: =IF(Team!$D$10="","",Team!$D$10) | AI11: =IF(AND($A11="",COUNTA(D11:AG11)=0),"",COUNTIF(D11:AG11,Schichten!$A$2)*Schichten!$F$2+COUNTIF(D11:AG11,Schichten!$A$3)*Schichten!$F$3+COUNTIF(D11:AG11,Schichten!$A$4)*Schichten!$F$4+COUNTIF(D11:AG11,Schichten!$A$5)*Schichten!$F$5+COUNTIF(D11:AG11,Schichten!$A$6)*Schichten!$F$6+COUNTIF(D11:AG11,Schichten!$A$7)*Schichten!$F$7+COUNTIF(D11:AG11,Schichten!$A$8)*Schichten!$F$8) | AJ11: =IF(OR(AH11="",AI11=""),"",AI11-AH11)
A12: =Team!$A$11&"" | B12: =Team!$B$11&"" | C12: =Team!$C$11&"" | AH12: =IF(Team!$D$11="","",Team!$D$11) | AI12: =IF(AND($A12="",COUNTA(D12:AG12)=0),"",COUNTIF(D12:AG12,Schichten!$A$2)*Schichten!$F$2+COUNTIF(D12:AG12,Schichten!$A$3)*Schichten!$F$3+COUNTIF(D12:AG12,Schichten!$A$4)*Schichten!$F$4+COUNTIF(D12:AG12,Schichten!$A$5)*Schichten!$F$5+COUNTIF(D12:AG12,Schichten!$A$6)*Schichten!$F$6+COUNTIF(D12:AG12,Schichten!$A$7)*Schichten!$F$7+COUNTIF(D12:AG12,Schichten!$A$8)*Schichten!$F$8) | AJ12: =IF(OR(AH12="",AI12=""),"",AI12-AH12)
A13: =Team!$A$12&"" | B13: =Team!$B$12&"" | C13: =Team!$C$12&"" | AH13: =IF(Team!$D$12="","",Team!$D$12) | AI13: =IF(AND($A13="",COUNTA(D13:AG13)=0),"",COUNTIF(D13:AG13,Schichten!$A$2)*Schichten!$F$2+COUNTIF(D13:AG13,Schichten!$A$3)*Schichten!$F$3+COUNTIF(D13:AG13,Schichten!$A$4)*Schichten!$F$4+COUNTIF(D13:AG13,Schichten!$A$5)*Schichten!$F$5+COUNTIF(D13:AG13,Schichten!$A$6)*Schichten!$F$6+COUNTIF(D13:AG13,Schichten!$A$7)*Schichten!$F$7+COUNTIF(D13:AG13,Schichten!$A$8)*Schichten!$F$8) | AJ13: =IF(OR(AH13="",AI13=""),"",AI13-AH13)
A14: =Team!$A$13&"" | B14: =Team!$B$13&"" | C14: =Team!$C$13&"" | AH14: =IF(Team!$D$13="","",Team!$D$13) | AI14: =IF(AND($A14="",COUNTA(D14:AG14)=0),"",COUNTIF(D14:AG14,Schichten!$A$2)*Schichten!$F$2+COUNTIF(D14:AG14,Schichten!$A$3)*Schichten!$F$3+COUNTIF(D14:AG14,Schichten!$A$4)*Schichten!$F$4+COUNTIF(D14:AG14,Schichten!$A$5)*Schichten!$F$5+COUNTIF(D14:AG14,Schichten!$A$6)*Schichten!$F$6+COUNTIF(D14:AG14,Schichten!$A$7)*Schichten!$F$7+COUNTIF(D14:AG14,Schichten!$A$8)*Schichten!$F$8) | AJ14: =IF(OR(AH14="",AI14=""),"",AI14-AH14)
A15: =Team!$A$14&"" | B15: =Team!$B$14&"" | C15: =Team!$C$14&"" | AH15: =IF(Team!$D$14="","",Team!$D$14) | AI15: =IF(AND($A15="",COUNTA(D15:AG15)=0),"",COUNTIF(D15:AG15,Schichten!$A$2)*Schichten!$F$2+COUNTIF(D15:AG15,Schichten!$A$3)*Schichten!$F$3+COUNTIF(D15:AG15,Schichten!$A$4)*Schichten!$F$4+COUNTIF(D15:AG15,Schichten!$A$5)*Schichten!$F$5+COUNTIF(D15:AG15,Schichten!$A$6)*Schichten!$F$6+COUNTIF(D15:AG15,Schichten!$A$7)*Schichten!$F$7+COUNTIF(D15:AG15,Schichten!$A$8)*Schichten!$F$8) | AJ15: =IF(OR(AH15="",AI15=""),"",AI15-AH15)
A16: =Team!$A$15&"" | B16: =Team!$B$15&"" | C16: =Team!$C$15&"" | AH16: =IF(Team!$D$15="","",Team!$D$15) | AI16: =IF(AND($A16="",COUNTA(D16:AG16)=0),"",COUNTIF(D16:AG16,Schichten!$A$2)*Schichten!$F$2+COUNTIF(D16:AG16,Schichten!$A$3)*Schichten!$F$3+COUNTIF(D16:AG16,Schichten!$A$4)*Schichten!$F$4+COUNTIF(D16:AG16,Schichten!$A$5)*Schichten!$F$5+COUNTIF(D16:AG16,Schichten!$A$6)*Schichten!$F$6+COUNTIF(D16:AG16,Schichten!$A$7)*Schichten!$F$7+COUNTIF(D16:AG16,Schichten!$A$8)*Schichten!$F$8) | AJ16: =IF(OR(AH16="",AI16=""),"",AI16-AH16)
A17: =Team!$A$16&"" | B17: =Team!$B$16&"" | C17: =Team!$C$16&"" | AH17: =IF(Team!$D$16="","",Team!$D$16) | AI17: =IF(AND($A17="",COUNTA(D17:AG17)=0),"",COUNTIF(D17:AG17,Schichten!$A$2)*Schichten!$F$2+COUNTIF(D17:AG17,Schichten!$A$3)*Schichten!$F$3+COUNTIF(D17:AG17,Schichten!$A$4)*Schichten!$F$4+COUNTIF(D17:AG17,Schichten!$A$5)*Schichten!$F$5+COUNTIF(D17:AG17,Schichten!$A$6)*Schichten!$F$6+COUNTIF(D17:AG17,Schichten!$A$7)*Schichten!$F$7+COUNTIF(D17:AG17,Schichten!$A$8)*Schichten!$F$8) | AJ17: =IF(OR(AH17="",AI17=""),"",AI17-AH17)
A18: =Team!$A$17&"" | B18: =Team!$B$17&"" | C18: =Team!$C$17&"" | AH18: =IF(Team!$D$17="","",Team!$D$17) | AI18: =IF(AND($A18="",COUNTA(D18:AG18)=0),"",COUNTIF(D18:AG18,Schichten!$A$2)*Schichten!$F$2+COUNTIF(D18:AG18,Schichten!$A$3)*Schichten!$F$3+COUNTIF(D18:AG18,Schichten!$A$4)*Schichten!$F$4+COUNTIF(D18:AG18,Schichten!$A$5)*Schichten!$F$5+COUNTIF(D18:AG18,Schichten!$A$6)*Schichten!$F$6+COUNTIF(D18:AG18,Schichten!$A$7)*Schichten!$F$7+COUNTIF(D18:AG18,Schichten!$A$8)*Schichten!$F$8) | AJ18: =IF(OR(AH18="",AI18=""),"",AI18-AH18)
A19: =Team!$A$18&"" | B19: =Team!$B$18&"" | C19: =Team!$C$18&"" | AH19: =IF(Team!$D$18="","",Team!$D$18) | AI19: =IF(AND($A19="",COUNTA(D19:AG19)=0),"",COUNTIF(D19:AG19,Schichten!$A$2)*Schichten!$F$2+COUNTIF(D19:AG19,Schichten!$A$3)*Schichten!$F$3+COUNTIF(D19:AG19,Schichten!$A$4)*Schichten!$F$4+COUNTIF(D19:AG19,Schichten!$A$5)*Schichten!$F$5+COUNTIF(D19:AG19,Schichten!$A$6)*Schichten!$F$6+COUNTIF(D19:AG19,Schichten!$A$7)*Schichten!$F$7+COUNTIF(D19:AG19,Schichten!$A$8)*Schichten!$F$8) | AJ19: =IF(OR(AH19="",AI19=""),"",AI19-AH19)
A20: =Team!$A$19&"" | B20: =Team!$B$19&"" | C20: =Team!$C$19&"" | AH20: =IF(Team!$D$19="","",Team!$D$19) | AI20: =IF(AND($A20="",COUNTA(D20:AG20)=0),"",COUNTIF(D20:AG20,Schichten!$A$2)*Schichten!$F$2+COUNTIF(D20:AG20,Schichten!$A$3)*Schichten!$F$3+COUNTIF(D20:AG20,Schichten!$A$4)*Schichten!$F$4+COUNTIF(D20:AG20,Schichten!$A$5)*Schichten!$F$5+COUNTIF(D20:AG20,Schichten!$A$6)*Schichten!$F$6+COUNTIF(D20:AG20,Schichten!$A$7)*Schichten!$F$7+COUNTIF(D20:AG20,Schichten!$A$8)*Schichten!$F$8) | AJ20: =IF(OR(AH20="",AI20=""),"",AI20-AH20)
A21: =Team!$A$20&"" | B21: =Team!$B$20&"" | C21: =Team!$C$20&"" | AH21: =IF(Team!$D$20="","",Team!$D$20) | AI21: =IF(AND($A21="",COUNTA(D21:AG21)=0),"",COUNTIF(D21:AG21,Schichten!$A$2)*Schichten!$F$2+COUNTIF(D21:AG21,Schichten!$A$3)*Schichten!$F$3+COUNTIF(D21:AG21,Schichten!$A$4)*Schichten!$F$4+COUNTIF(D21:AG21,Schichten!$A$5)*Schichten!$F$5+COUNTIF(D21:AG21,Schichten!$A$6)*Schichten!$F$6+COUNTIF(D21:AG21,Schichten!$A$7)*Schichten!$F$7+COUNTIF(D21:AG21,Schichten!$A$8)*Schichten!$F$8) | AJ21: =IF(OR(AH21="",AI21=""),"",AI21-AH21)
A23: Keine bundesweiten Feiertage im September 2027.
A24: Nur in einigen Bundesländern, im Plan nicht markiert: Mo 20.09. Weltkindertag (TH)
A26: Kostenlose Vorlage von www.crew-active.de/ressourcen/blog/dienstplan-vorlage-excel/

Sheet Oktober
A1: Dienstplan Oktober 2027
A2: Pro Tag ein Schichtkürzel aus der Liste wählen: F Früh, S Spät, N Nacht, T Tag, U Urlaub, K Krank, FR Frei. Zeiten und Stunden stehen im Blatt „Schichten“, Namen und Soll-Stunden im Blatt „Team“. Grau: Samstag, Sonntag und bundesweite Feiertage.
D4: KW 39 | G4: KW 40 | N4: KW 41 | U4: KW 42 | AB4: KW 43
A5: Mitarbeiter/in | B5: Personalnr. | C5: Qualifikation | D5: 1 | E5: 2 | F5: 3 | G5: 4 | H5: 5 | I5: 6 | J5: 7 | K5: 8 | L5: 9 | M5: 10 | N5: 11 | O5: 12 | P5: 13 | Q5: 14 | R5: 15 | S5: 16 | T5: 17 | U5: 18 | V5: 19 | W5: 20 | X5: 21 | Y5: 22 | Z5: 23 | AA5: 24 | AB5: 25 | AC5: 26 | AD5: 27 | AE5: 28 | AF5: 29 | AG5: 30 | AH5: 31 | AI5: Soll-Std. | AJ5: Ist-Std. | AK5: Differenz
D6: Fr | E6: Sa | F6: So | G6: Mo | H6: Di | I6: Mi | J6: Do | K6: Fr | L6: Sa | M6: So | N6: Mo | O6: Di | P6: Mi | Q6: Do | R6: Fr | S6: Sa | T6: So | U6: Mo | V6: Di | W6: Mi | X6: Do | Y6: Fr | Z6: Sa | AA6: So | AB6: Mo | AC6: Di | AD6: Mi | AE6: Do | AF6: Fr | AG6: Sa | AH6: So
A7: =Team!$A$6&"" | B7: =Team!$B$6&"" | C7: =Team!$C$6&"" | AI7: =IF(Team!$D$6="","",Team!$D$6) | AJ7: =IF(AND($A7="",COUNTA(D7:AH7)=0),"",COUNTIF(D7:AH7,Schichten!$A$2)*Schichten!$F$2+COUNTIF(D7:AH7,Schichten!$A$3)*Schichten!$F$3+COUNTIF(D7:AH7,Schichten!$A$4)*Schichten!$F$4+COUNTIF(D7:AH7,Schichten!$A$5)*Schichten!$F$5+COUNTIF(D7:AH7,Schichten!$A$6)*Schichten!$F$6+COUNTIF(D7:AH7,Schichten!$A$7)*Schichten!$F$7+COUNTIF(D7:AH7,Schichten!$A$8)*Schichten!$F$8) | AK7: =IF(OR(AI7="",AJ7=""),"",AJ7-AI7)
A8: =Team!$A$7&"" | B8: =Team!$B$7&"" | C8: =Team!$C$7&"" | AI8: =IF(Team!$D$7="","",Team!$D$7) | AJ8: =IF(AND($A8="",COUNTA(D8:AH8)=0),"",COUNTIF(D8:AH8,Schichten!$A$2)*Schichten!$F$2+COUNTIF(D8:AH8,Schichten!$A$3)*Schichten!$F$3+COUNTIF(D8:AH8,Schichten!$A$4)*Schichten!$F$4+COUNTIF(D8:AH8,Schichten!$A$5)*Schichten!$F$5+COUNTIF(D8:AH8,Schichten!$A$6)*Schichten!$F$6+COUNTIF(D8:AH8,Schichten!$A$7)*Schichten!$F$7+COUNTIF(D8:AH8,Schichten!$A$8)*Schichten!$F$8) | AK8: =IF(OR(AI8="",AJ8=""),"",AJ8-AI8)
A9: =Team!$A$8&"" | B9: =Team!$B$8&"" | C9: =Team!$C$8&"" | AI9: =IF(Team!$D$8="","",Team!$D$8) | AJ9: =IF(AND($A9="",COUNTA(D9:AH9)=0),"",COUNTIF(D9:AH9,Schichten!$A$2)*Schichten!$F$2+COUNTIF(D9:AH9,Schichten!$A$3)*Schichten!$F$3+COUNTIF(D9:AH9,Schichten!$A$4)*Schichten!$F$4+COUNTIF(D9:AH9,Schichten!$A$5)*Schichten!$F$5+COUNTIF(D9:AH9,Schichten!$A$6)*Schichten!$F$6+COUNTIF(D9:AH9,Schichten!$A$7)*Schichten!$F$7+COUNTIF(D9:AH9,Schichten!$A$8)*Schichten!$F$8) | AK9: =IF(OR(AI9="",AJ9=""),"",AJ9-AI9)
A10: =Team!$A$9&"" | B10: =Team!$B$9&"" | C10: =Team!$C$9&"" | AI10: =IF(Team!$D$9="","",Team!$D$9) | AJ10: =IF(AND($A10="",COUNTA(D10:AH10)=0),"",COUNTIF(D10:AH10,Schichten!$A$2)*Schichten!$F$2+COUNTIF(D10:AH10,Schichten!$A$3)*Schichten!$F$3+COUNTIF(D10:AH10,Schichten!$A$4)*Schichten!$F$4+COUNTIF(D10:AH10,Schichten!$A$5)*Schichten!$F$5+COUNTIF(D10:AH10,Schichten!$A$6)*Schichten!$F$6+COUNTIF(D10:AH10,Schichten!$A$7)*Schichten!$F$7+COUNTIF(D10:AH10,Schichten!$A$8)*Schichten!$F$8) | AK10: =IF(OR(AI10="",AJ10=""),"",AJ10-AI10)
A11: =Team!$A$10&"" | B11: =Team!$B$10&"" | C11: =Team!$C$10&"" | AI11: =IF(Team!$D$10="","",Team!$D$10) | AJ11: =IF(AND($A11="",COUNTA(D11:AH11)=0),"",COUNTIF(D11:AH11,Schichten!$A$2)*Schichten!$F$2+COUNTIF(D11:AH11,Schichten!$A$3)*Schichten!$F$3+COUNTIF(D11:AH11,Schichten!$A$4)*Schichten!$F$4+COUNTIF(D11:AH11,Schichten!$A$5)*Schichten!$F$5+COUNTIF(D11:AH11,Schichten!$A$6)*Schichten!$F$6+COUNTIF(D11:AH11,Schichten!$A$7)*Schichten!$F$7+COUNTIF(D11:AH11,Schichten!$A$8)*Schichten!$F$8) | AK11: =IF(OR(AI11="",AJ11=""),"",AJ11-AI11)
A12: =Team!$A$11&"" | B12: =Team!$B$11&"" | C12: =Team!$C$11&"" | AI12: =IF(Team!$D$11="","",Team!$D$11) | AJ12: =IF(AND($A12="",COUNTA(D12:AH12)=0),"",COUNTIF(D12:AH12,Schichten!$A$2)*Schichten!$F$2+COUNTIF(D12:AH12,Schichten!$A$3)*Schichten!$F$3+COUNTIF(D12:AH12,Schichten!$A$4)*Schichten!$F$4+COUNTIF(D12:AH12,Schichten!$A$5)*Schichten!$F$5+COUNTIF(D12:AH12,Schichten!$A$6)*Schichten!$F$6+COUNTIF(D12:AH12,Schichten!$A$7)*Schichten!$F$7+COUNTIF(D12:AH12,Schichten!$A$8)*Schichten!$F$8) | AK12: =IF(OR(AI12="",AJ12=""),"",AJ12-AI12)
A13: =Team!$A$12&"" | B13: =Team!$B$12&"" | C13: =Team!$C$12&"" | AI13: =IF(Team!$D$12="","",Team!$D$12) | AJ13: =IF(AND($A13="",COUNTA(D13:AH13)=0),"",COUNTIF(D13:AH13,Schichten!$A$2)*Schichten!$F$2+COUNTIF(D13:AH13,Schichten!$A$3)*Schichten!$F$3+COUNTIF(D13:AH13,Schichten!$A$4)*Schichten!$F$4+COUNTIF(D13:AH13,Schichten!$A$5)*Schichten!$F$5+COUNTIF(D13:AH13,Schichten!$A$6)*Schichten!$F$6+COUNTIF(D13:AH13,Schichten!$A$7)*Schichten!$F$7+COUNTIF(D13:AH13,Schichten!$A$8)*Schichten!$F$8) | AK13: =IF(OR(AI13="",AJ13=""),"",AJ13-AI13)
A14: =Team!$A$13&"" | B14: =Team!$B$13&"" | C14: =Team!$C$13&"" | AI14: =IF(Team!$D$13="","",Team!$D$13) | AJ14: =IF(AND($A14="",COUNTA(D14:AH14)=0),"",COUNTIF(D14:AH14,Schichten!$A$2)*Schichten!$F$2+COUNTIF(D14:AH14,Schichten!$A$3)*Schichten!$F$3+COUNTIF(D14:AH14,Schichten!$A$4)*Schichten!$F$4+COUNTIF(D14:AH14,Schichten!$A$5)*Schichten!$F$5+COUNTIF(D14:AH14,Schichten!$A$6)*Schichten!$F$6+COUNTIF(D14:AH14,Schichten!$A$7)*Schichten!$F$7+COUNTIF(D14:AH14,Schichten!$A$8)*Schichten!$F$8) | AK14: =IF(OR(AI14="",AJ14=""),"",AJ14-AI14)
A15: =Team!$A$14&"" | B15: =Team!$B$14&"" | C15: =Team!$C$14&"" | AI15: =IF(Team!$D$14="","",Team!$D$14) | AJ15: =IF(AND($A15="",COUNTA(D15:AH15)=0),"",COUNTIF(D15:AH15,Schichten!$A$2)*Schichten!$F$2+COUNTIF(D15:AH15,Schichten!$A$3)*Schichten!$F$3+COUNTIF(D15:AH15,Schichten!$A$4)*Schichten!$F$4+COUNTIF(D15:AH15,Schichten!$A$5)*Schichten!$F$5+COUNTIF(D15:AH15,Schichten!$A$6)*Schichten!$F$6+COUNTIF(D15:AH15,Schichten!$A$7)*Schichten!$F$7+COUNTIF(D15:AH15,Schichten!$A$8)*Schichten!$F$8) | AK15: =IF(OR(AI15="",AJ15=""),"",AJ15-AI15)
A16: =Team!$A$15&"" | B16: =Team!$B$15&"" | C16: =Team!$C$15&"" | AI16: =IF(Team!$D$15="","",Team!$D$15) | AJ16: =IF(AND($A16="",COUNTA(D16:AH16)=0),"",COUNTIF(D16:AH16,Schichten!$A$2)*Schichten!$F$2+COUNTIF(D16:AH16,Schichten!$A$3)*Schichten!$F$3+COUNTIF(D16:AH16,Schichten!$A$4)*Schichten!$F$4+COUNTIF(D16:AH16,Schichten!$A$5)*Schichten!$F$5+COUNTIF(D16:AH16,Schichten!$A$6)*Schichten!$F$6+COUNTIF(D16:AH16,Schichten!$A$7)*Schichten!$F$7+COUNTIF(D16:AH16,Schichten!$A$8)*Schichten!$F$8) | AK16: =IF(OR(AI16="",AJ16=""),"",AJ16-AI16)
A17: =Team!$A$16&"" | B17: =Team!$B$16&"" | C17: =Team!$C$16&"" | AI17: =IF(Team!$D$16="","",Team!$D$16) | AJ17: =IF(AND($A17="",COUNTA(D17:AH17)=0),"",COUNTIF(D17:AH17,Schichten!$A$2)*Schichten!$F$2+COUNTIF(D17:AH17,Schichten!$A$3)*Schichten!$F$3+COUNTIF(D17:AH17,Schichten!$A$4)*Schichten!$F$4+COUNTIF(D17:AH17,Schichten!$A$5)*Schichten!$F$5+COUNTIF(D17:AH17,Schichten!$A$6)*Schichten!$F$6+COUNTIF(D17:AH17,Schichten!$A$7)*Schichten!$F$7+COUNTIF(D17:AH17,Schichten!$A$8)*Schichten!$F$8) | AK17: =IF(OR(AI17="",AJ17=""),"",AJ17-AI17)
A18: =Team!$A$17&"" | B18: =Team!$B$17&"" | C18: =Team!$C$17&"" | AI18: =IF(Team!$D$17="","",Team!$D$17) | AJ18: =IF(AND($A18="",COUNTA(D18:AH18)=0),"",COUNTIF(D18:AH18,Schichten!$A$2)*Schichten!$F$2+COUNTIF(D18:AH18,Schichten!$A$3)*Schichten!$F$3+COUNTIF(D18:AH18,Schichten!$A$4)*Schichten!$F$4+COUNTIF(D18:AH18,Schichten!$A$5)*Schichten!$F$5+COUNTIF(D18:AH18,Schichten!$A$6)*Schichten!$F$6+COUNTIF(D18:AH18,Schichten!$A$7)*Schichten!$F$7+COUNTIF(D18:AH18,Schichten!$A$8)*Schichten!$F$8) | AK18: =IF(OR(AI18="",AJ18=""),"",AJ18-AI18)
A19: =Team!$A$18&"" | B19: =Team!$B$18&"" | C19: =Team!$C$18&"" | AI19: =IF(Team!$D$18="","",Team!$D$18) | AJ19: =IF(AND($A19="",COUNTA(D19:AH19)=0),"",COUNTIF(D19:AH19,Schichten!$A$2)*Schichten!$F$2+COUNTIF(D19:AH19,Schichten!$A$3)*Schichten!$F$3+COUNTIF(D19:AH19,Schichten!$A$4)*Schichten!$F$4+COUNTIF(D19:AH19,Schichten!$A$5)*Schichten!$F$5+COUNTIF(D19:AH19,Schichten!$A$6)*Schichten!$F$6+COUNTIF(D19:AH19,Schichten!$A$7)*Schichten!$F$7+COUNTIF(D19:AH19,Schichten!$A$8)*Schichten!$F$8) | AK19: =IF(OR(AI19="",AJ19=""),"",AJ19-AI19)
A20: =Team!$A$19&"" | B20: =Team!$B$19&"" | C20: =Team!$C$19&"" | AI20: =IF(Team!$D$19="","",Team!$D$19) | AJ20: =IF(AND($A20="",COUNTA(D20:AH20)=0),"",COUNTIF(D20:AH20,Schichten!$A$2)*Schichten!$F$2+COUNTIF(D20:AH20,Schichten!$A$3)*Schichten!$F$3+COUNTIF(D20:AH20,Schichten!$A$4)*Schichten!$F$4+COUNTIF(D20:AH20,Schichten!$A$5)*Schichten!$F$5+COUNTIF(D20:AH20,Schichten!$A$6)*Schichten!$F$6+COUNTIF(D20:AH20,Schichten!$A$7)*Schichten!$F$7+COUNTIF(D20:AH20,Schichten!$A$8)*Schichten!$F$8) | AK20: =IF(OR(AI20="",AJ20=""),"",AJ20-AI20)
A21: =Team!$A$20&"" | B21: =Team!$B$20&"" | C21: =Team!$C$20&"" | AI21: =IF(Team!$D$20="","",Team!$D$20) | AJ21: =IF(AND($A21="",COUNTA(D21:AH21)=0),"",COUNTIF(D21:AH21,Schichten!$A$2)*Schichten!$F$2+COUNTIF(D21:AH21,Schichten!$A$3)*Schichten!$F$3+COUNTIF(D21:AH21,Schichten!$A$4)*Schichten!$F$4+COUNTIF(D21:AH21,Schichten!$A$5)*Schichten!$F$5+COUNTIF(D21:AH21,Schichten!$A$6)*Schichten!$F$6+COUNTIF(D21:AH21,Schichten!$A$7)*Schichten!$F$7+COUNTIF(D21:AH21,Schichten!$A$8)*Schichten!$F$8) | AK21: =IF(OR(AI21="",AJ21=""),"",AJ21-AI21)
A23: Bundesweite Feiertage im Oktober 2027: So 03.10. Tag der Deutschen Einheit
A24: Nur in einigen Bundesländern, im Plan nicht markiert: So 31.10. Reformationstag (BB, HB, HH, MV, NI, SN, ST, SH, TH)
A26: Kostenlose Vorlage von www.crew-active.de/ressourcen/blog/dienstplan-vorlage-excel/

Sheet November
A1: Dienstplan November 2027
A2: Pro Tag ein Schichtkürzel aus der Liste wählen: F Früh, S Spät, N Nacht, T Tag, U Urlaub, K Krank, FR Frei. Zeiten und Stunden stehen im Blatt „Schichten“, Namen und Soll-Stunden im Blatt „Team“. Grau: Samstag, Sonntag und bundesweite Feiertage.
D4: KW 44 | K4: KW 45 | R4: KW 46 | Y4: KW 47 | AF4: KW 48
A5: Mitarbeiter/in | B5: Personalnr. | C5: Qualifikation | D5: 1 | E5: 2 | F5: 3 | G5: 4 | H5: 5 | I5: 6 | J5: 7 | K5: 8 | L5: 9 | M5: 10 | N5: 11 | O5: 12 | P5: 13 | Q5: 14 | R5: 15 | S5: 16 | T5: 17 | U5: 18 | V5: 19 | W5: 20 | X5: 21 | Y5: 22 | Z5: 23 | AA5: 24 | AB5: 25 | AC5: 26 | AD5: 27 | AE5: 28 | AF5: 29 | AG5: 30 | AH5: Soll-Std. | AI5: Ist-Std. | AJ5: Differenz
D6: Mo | E6: Di | F6: Mi | G6: Do | H6: Fr | I6: Sa | J6: So | K6: Mo | L6: Di | M6: Mi | N6: Do | O6: Fr | P6: Sa | Q6: So | R6: Mo | S6: Di | T6: Mi | U6: Do | V6: Fr | W6: Sa | X6: So | Y6: Mo | Z6: Di | AA6: Mi | AB6: Do | AC6: Fr | AD6: Sa | AE6: So | AF6: Mo | AG6: Di
A7: =Team!$A$6&"" | B7: =Team!$B$6&"" | C7: =Team!$C$6&"" | AH7: =IF(Team!$D$6="","",Team!$D$6) | AI7: =IF(AND($A7="",COUNTA(D7:AG7)=0),"",COUNTIF(D7:AG7,Schichten!$A$2)*Schichten!$F$2+COUNTIF(D7:AG7,Schichten!$A$3)*Schichten!$F$3+COUNTIF(D7:AG7,Schichten!$A$4)*Schichten!$F$4+COUNTIF(D7:AG7,Schichten!$A$5)*Schichten!$F$5+COUNTIF(D7:AG7,Schichten!$A$6)*Schichten!$F$6+COUNTIF(D7:AG7,Schichten!$A$7)*Schichten!$F$7+COUNTIF(D7:AG7,Schichten!$A$8)*Schichten!$F$8) | AJ7: =IF(OR(AH7="",AI7=""),"",AI7-AH7)
A8: =Team!$A$7&"" | B8: =Team!$B$7&"" | C8: =Team!$C$7&"" | AH8: =IF(Team!$D$7="","",Team!$D$7) | AI8: =IF(AND($A8="",COUNTA(D8:AG8)=0),"",COUNTIF(D8:AG8,Schichten!$A$2)*Schichten!$F$2+COUNTIF(D8:AG8,Schichten!$A$3)*Schichten!$F$3+COUNTIF(D8:AG8,Schichten!$A$4)*Schichten!$F$4+COUNTIF(D8:AG8,Schichten!$A$5)*Schichten!$F$5+COUNTIF(D8:AG8,Schichten!$A$6)*Schichten!$F$6+COUNTIF(D8:AG8,Schichten!$A$7)*Schichten!$F$7+COUNTIF(D8:AG8,Schichten!$A$8)*Schichten!$F$8) | AJ8: =IF(OR(AH8="",AI8=""),"",AI8-AH8)
A9: =Team!$A$8&"" | B9: =Team!$B$8&"" | C9: =Team!$C$8&"" | AH9: =IF(Team!$D$8="","",Team!$D$8) | AI9: =IF(AND($A9="",COUNTA(D9:AG9)=0),"",COUNTIF(D9:AG9,Schichten!$A$2)*Schichten!$F$2+COUNTIF(D9:AG9,Schichten!$A$3)*Schichten!$F$3+COUNTIF(D9:AG9,Schichten!$A$4)*Schichten!$F$4+COUNTIF(D9:AG9,Schichten!$A$5)*Schichten!$F$5+COUNTIF(D9:AG9,Schichten!$A$6)*Schichten!$F$6+COUNTIF(D9:AG9,Schichten!$A$7)*Schichten!$F$7+COUNTIF(D9:AG9,Schichten!$A$8)*Schichten!$F$8) | AJ9: =IF(OR(AH9="",AI9=""),"",AI9-AH9)
A10: =Team!$A$9&"" | B10: =Team!$B$9&"" | C10: =Team!$C$9&"" | AH10: =IF(Team!$D$9="","",Team!$D$9) | AI10: =IF(AND($A10="",COUNTA(D10:AG10)=0),"",COUNTIF(D10:AG10,Schichten!$A$2)*Schichten!$F$2+COUNTIF(D10:AG10,Schichten!$A$3)*Schichten!$F$3+COUNTIF(D10:AG10,Schichten!$A$4)*Schichten!$F$4+COUNTIF(D10:AG10,Schichten!$A$5)*Schichten!$F$5+COUNTIF(D10:AG10,Schichten!$A$6)*Schichten!$F$6+COUNTIF(D10:AG10,Schichten!$A$7)*Schichten!$F$7+COUNTIF(D10:AG10,Schichten!$A$8)*Schichten!$F$8) | AJ10: =IF(OR(AH10="",AI10=""),"",AI10-AH10)
A11: =Team!$A$10&"" | B11: =Team!$B$10&"" | C11: =Team!$C$10&"" | AH11: =IF(Team!$D$10="","",Team!$D$10) | AI11: =IF(AND($A11="",COUNTA(D11:AG11)=0),"",COUNTIF(D11:AG11,Schichten!$A$2)*Schichten!$F$2+COUNTIF(D11:AG11,Schichten!$A$3)*Schichten!$F$3+COUNTIF(D11:AG11,Schichten!$A$4)*Schichten!$F$4+COUNTIF(D11:AG11,Schichten!$A$5)*Schichten!$F$5+COUNTIF(D11:AG11,Schichten!$A$6)*Schichten!$F$6+COUNTIF(D11:AG11,Schichten!$A$7)*Schichten!$F$7+COUNTIF(D11:AG11,Schichten!$A$8)*Schichten!$F$8) | AJ11: =IF(OR(AH11="",AI11=""),"",AI11-AH11)
A12: =Team!$A$11&"" | B12: =Team!$B$11&"" | C12: =Team!$C$11&"" | AH12: =IF(Team!$D$11="","",Team!$D$11) | AI12: =IF(AND($A12="",COUNTA(D12:AG12)=0),"",COUNTIF(D12:AG12,Schichten!$A$2)*Schichten!$F$2+COUNTIF(D12:AG12,Schichten!$A$3)*Schichten!$F$3+COUNTIF(D12:AG12,Schichten!$A$4)*Schichten!$F$4+COUNTIF(D12:AG12,Schichten!$A$5)*Schichten!$F$5+COUNTIF(D12:AG12,Schichten!$A$6)*Schichten!$F$6+COUNTIF(D12:AG12,Schichten!$A$7)*Schichten!$F$7+COUNTIF(D12:AG12,Schichten!$A$8)*Schichten!$F$8) | AJ12: =IF(OR(AH12="",AI12=""),"",AI12-AH12)
A13: =Team!$A$12&"" | B13: =Team!$B$12&"" | C13: =Team!$C$12&"" | AH13: =IF(Team!$D$12="","",Team!$D$12) | AI13: =IF(AND($A13="",COUNTA(D13:AG13)=0),"",COUNTIF(D13:AG13,Schichten!$A$2)*Schichten!$F$2+COUNTIF(D13:AG13,Schichten!$A$3)*Schichten!$F$3+COUNTIF(D13:AG13,Schichten!$A$4)*Schichten!$F$4+COUNTIF(D13:AG13,Schichten!$A$5)*Schichten!$F$5+COUNTIF(D13:AG13,Schichten!$A$6)*Schichten!$F$6+COUNTIF(D13:AG13,Schichten!$A$7)*Schichten!$F$7+COUNTIF(D13:AG13,Schichten!$A$8)*Schichten!$F$8) | AJ13: =IF(OR(AH13="",AI13=""),"",AI13-AH13)
A14: =Team!$A$13&"" | B14: =Team!$B$13&"" | C14: =Team!$C$13&"" | AH14: =IF(Team!$D$13="","",Team!$D$13) | AI14: =IF(AND($A14="",COUNTA(D14:AG14)=0),"",COUNTIF(D14:AG14,Schichten!$A$2)*Schichten!$F$2+COUNTIF(D14:AG14,Schichten!$A$3)*Schichten!$F$3+COUNTIF(D14:AG14,Schichten!$A$4)*Schichten!$F$4+COUNTIF(D14:AG14,Schichten!$A$5)*Schichten!$F$5+COUNTIF(D14:AG14,Schichten!$A$6)*Schichten!$F$6+COUNTIF(D14:AG14,Schichten!$A$7)*Schichten!$F$7+COUNTIF(D14:AG14,Schichten!$A$8)*Schichten!$F$8) | AJ14: =IF(OR(AH14="",AI14=""),"",AI14-AH14)
A15: =Team!$A$14&"" | B15: =Team!$B$14&"" | C15: =Team!$C$14&"" | AH15: =IF(Team!$D$14="","",Team!$D$14) | AI15: =IF(AND($A15="",COUNTA(D15:AG15)=0),"",COUNTIF(D15:AG15,Schichten!$A$2)*Schichten!$F$2+COUNTIF(D15:AG15,Schichten!$A$3)*Schichten!$F$3+COUNTIF(D15:AG15,Schichten!$A$4)*Schichten!$F$4+COUNTIF(D15:AG15,Schichten!$A$5)*Schichten!$F$5+COUNTIF(D15:AG15,Schichten!$A$6)*Schichten!$F$6+COUNTIF(D15:AG15,Schichten!$A$7)*Schichten!$F$7+COUNTIF(D15:AG15,Schichten!$A$8)*Schichten!$F$8) | AJ15: =IF(OR(AH15="",AI15=""),"",AI15-AH15)
A16: =Team!$A$15&"" | B16: =Team!$B$15&"" | C16: =Team!$C$15&"" | AH16: =IF(Team!$D$15="","",Team!$D$15) | AI16: =IF(AND($A16="",COUNTA(D16:AG16)=0),"",COUNTIF(D16:AG16,Schichten!$A$2)*Schichten!$F$2+COUNTIF(D16:AG16,Schichten!$A$3)*Schichten!$F$3+COUNTIF(D16:AG16,Schichten!$A$4)*Schichten!$F$4+COUNTIF(D16:AG16,Schichten!$A$5)*Schichten!$F$5+COUNTIF(D16:AG16,Schichten!$A$6)*Schichten!$F$6+COUNTIF(D16:AG16,Schichten!$A$7)*Schichten!$F$7+COUNTIF(D16:AG16,Schichten!$A$8)*Schichten!$F$8) | AJ16: =IF(OR(AH16="",AI16=""),"",AI16-AH16)
A17: =Team!$A$16&"" | B17: =Team!$B$16&"" | C17: =Team!$C$16&"" | AH17: =IF(Team!$D$16="","",Team!$D$16) | AI17: =IF(AND($A17="",COUNTA(D17:AG17)=0),"",COUNTIF(D17:AG17,Schichten!$A$2)*Schichten!$F$2+COUNTIF(D17:AG17,Schichten!$A$3)*Schichten!$F$3+COUNTIF(D17:AG17,Schichten!$A$4)*Schichten!$F$4+COUNTIF(D17:AG17,Schichten!$A$5)*Schichten!$F$5+COUNTIF(D17:AG17,Schichten!$A$6)*Schichten!$F$6+COUNTIF(D17:AG17,Schichten!$A$7)*Schichten!$F$7+COUNTIF(D17:AG17,Schichten!$A$8)*Schichten!$F$8) | AJ17: =IF(OR(AH17="",AI17=""),"",AI17-AH17)
A18: =Team!$A$17&"" | B18: =Team!$B$17&"" | C18: =Team!$C$17&"" | AH18: =IF(Team!$D$17="","",Team!$D$17) | AI18: =IF(AND($A18="",COUNTA(D18:AG18)=0),"",COUNTIF(D18:AG18,Schichten!$A$2)*Schichten!$F$2+COUNTIF(D18:AG18,Schichten!$A$3)*Schichten!$F$3+COUNTIF(D18:AG18,Schichten!$A$4)*Schichten!$F$4+COUNTIF(D18:AG18,Schichten!$A$5)*Schichten!$F$5+COUNTIF(D18:AG18,Schichten!$A$6)*Schichten!$F$6+COUNTIF(D18:AG18,Schichten!$A$7)*Schichten!$F$7+COUNTIF(D18:AG18,Schichten!$A$8)*Schichten!$F$8) | AJ18: =IF(OR(AH18="",AI18=""),"",AI18-AH18)
A19: =Team!$A$18&"" | B19: =Team!$B$18&"" | C19: =Team!$C$18&"" | AH19: =IF(Team!$D$18="","",Team!$D$18) | AI19: =IF(AND($A19="",COUNTA(D19:AG19)=0),"",COUNTIF(D19:AG19,Schichten!$A$2)*Schichten!$F$2+COUNTIF(D19:AG19,Schichten!$A$3)*Schichten!$F$3+COUNTIF(D19:AG19,Schichten!$A$4)*Schichten!$F$4+COUNTIF(D19:AG19,Schichten!$A$5)*Schichten!$F$5+COUNTIF(D19:AG19,Schichten!$A$6)*Schichten!$F$6+COUNTIF(D19:AG19,Schichten!$A$7)*Schichten!$F$7+COUNTIF(D19:AG19,Schichten!$A$8)*Schichten!$F$8) | AJ19: =IF(OR(AH19="",AI19=""),"",AI19-AH19)
A20: =Team!$A$19&"" | B20: =Team!$B$19&"" | C20: =Team!$C$19&"" | AH20: =IF(Team!$D$19="","",Team!$D$19) | AI20: =IF(AND($A20="",COUNTA(D20:AG20)=0),"",COUNTIF(D20:AG20,Schichten!$A$2)*Schichten!$F$2+COUNTIF(D20:AG20,Schichten!$A$3)*Schichten!$F$3+COUNTIF(D20:AG20,Schichten!$A$4)*Schichten!$F$4+COUNTIF(D20:AG20,Schichten!$A$5)*Schichten!$F$5+COUNTIF(D20:AG20,Schichten!$A$6)*Schichten!$F$6+COUNTIF(D20:AG20,Schichten!$A$7)*Schichten!$F$7+COUNTIF(D20:AG20,Schichten!$A$8)*Schichten!$F$8) | AJ20: =IF(OR(AH20="",AI20=""),"",AI20-AH20)
A21: =Team!$A$20&"" | B21: =Team!$B$20&"" | C21: =Team!$C$20&"" | AH21: =IF(Team!$D$20="","",Team!$D$20) | AI21: =IF(AND($A21="",COUNTA(D21:AG21)=0),"",COUNTIF(D21:AG21,Schichten!$A$2)*Schichten!$F$2+COUNTIF(D21:AG21,Schichten!$A$3)*Schichten!$F$3+COUNTIF(D21:AG21,Schichten!$A$4)*Schichten!$F$4+COUNTIF(D21:AG21,Schichten!$A$5)*Schichten!$F$5+COUNTIF(D21:AG21,Schichten!$A$6)*Schichten!$F$6+COUNTIF(D21:AG21,Schichten!$A$7)*Schichten!$F$7+COUNTIF(D21:AG21,Schichten!$A$8)*Schichten!$F$8) | AJ21: =IF(OR(AH21="",AI21=""),"",AI21-AH21)
A23: Keine bundesweiten Feiertage im November 2027.
A24: Nur in einigen Bundesländern, im Plan nicht markiert: Mo 01.11. Allerheiligen (BW, BY, NW, RP, SL), Mi 17.11. Buß- und Bettag (SN)
A26: Kostenlose Vorlage von www.crew-active.de/ressourcen/blog/dienstplan-vorlage-excel/

Sheet Dezember
A1: Dienstplan Dezember 2027
A2: Pro Tag ein Schichtkürzel aus der Liste wählen: F Früh, S Spät, N Nacht, T Tag, U Urlaub, K Krank, FR Frei. Zeiten und Stunden stehen im Blatt „Schichten“, Namen und Soll-Stunden im Blatt „Team“. Grau: Samstag, Sonntag und bundesweite Feiertage.
D4: KW 48 | I4: KW 49 | P4: KW 50 | W4: KW 51 | AD4: KW 52
A5: Mitarbeiter/in | B5: Personalnr. | C5: Qualifikation | D5: 1 | E5: 2 | F5: 3 | G5: 4 | H5: 5 | I5: 6 | J5: 7 | K5: 8 | L5: 9 | M5: 10 | N5: 11 | O5: 12 | P5: 13 | Q5: 14 | R5: 15 | S5: 16 | T5: 17 | U5: 18 | V5: 19 | W5: 20 | X5: 21 | Y5: 22 | Z5: 23 | AA5: 24 | AB5: 25 | AC5: 26 | AD5: 27 | AE5: 28 | AF5: 29 | AG5: 30 | AH5: 31 | AI5: Soll-Std. | AJ5: Ist-Std. | AK5: Differenz
D6: Mi | E6: Do | F6: Fr | G6: Sa | H6: So | I6: Mo | J6: Di | K6: Mi | L6: Do | M6: Fr | N6: Sa | O6: So | P6: Mo | Q6: Di | R6: Mi | S6: Do | T6: Fr | U6: Sa | V6: So | W6: Mo | X6: Di | Y6: Mi | Z6: Do | AA6: Fr | AB6: Sa | AC6: So | AD6: Mo | AE6: Di | AF6: Mi | AG6: Do | AH6: Fr
A7: =Team!$A$6&"" | B7: =Team!$B$6&"" | C7: =Team!$C$6&"" | AI7: =IF(Team!$D$6="","",Team!$D$6) | AJ7: =IF(AND($A7="",COUNTA(D7:AH7)=0),"",COUNTIF(D7:AH7,Schichten!$A$2)*Schichten!$F$2+COUNTIF(D7:AH7,Schichten!$A$3)*Schichten!$F$3+COUNTIF(D7:AH7,Schichten!$A$4)*Schichten!$F$4+COUNTIF(D7:AH7,Schichten!$A$5)*Schichten!$F$5+COUNTIF(D7:AH7,Schichten!$A$6)*Schichten!$F$6+COUNTIF(D7:AH7,Schichten!$A$7)*Schichten!$F$7+COUNTIF(D7:AH7,Schichten!$A$8)*Schichten!$F$8) | AK7: =IF(OR(AI7="",AJ7=""),"",AJ7-AI7)
A8: =Team!$A$7&"" | B8: =Team!$B$7&"" | C8: =Team!$C$7&"" | AI8: =IF(Team!$D$7="","",Team!$D$7) | AJ8: =IF(AND($A8="",COUNTA(D8:AH8)=0),"",COUNTIF(D8:AH8,Schichten!$A$2)*Schichten!$F$2+COUNTIF(D8:AH8,Schichten!$A$3)*Schichten!$F$3+COUNTIF(D8:AH8,Schichten!$A$4)*Schichten!$F$4+COUNTIF(D8:AH8,Schichten!$A$5)*Schichten!$F$5+COUNTIF(D8:AH8,Schichten!$A$6)*Schichten!$F$6+COUNTIF(D8:AH8,Schichten!$A$7)*Schichten!$F$7+COUNTIF(D8:AH8,Schichten!$A$8)*Schichten!$F$8) | AK8: =IF(OR(AI8="",AJ8=""),"",AJ8-AI8)
A9: =Team!$A$8&"" | B9: =Team!$B$8&"" | C9: =Team!$C$8&"" | AI9: =IF(Team!$D$8="","",Team!$D$8) | AJ9: =IF(AND($A9="",COUNTA(D9:AH9)=0),"",COUNTIF(D9:AH9,Schichten!$A$2)*Schichten!$F$2+COUNTIF(D9:AH9,Schichten!$A$3)*Schichten!$F$3+COUNTIF(D9:AH9,Schichten!$A$4)*Schichten!$F$4+COUNTIF(D9:AH9,Schichten!$A$5)*Schichten!$F$5+COUNTIF(D9:AH9,Schichten!$A$6)*Schichten!$F$6+COUNTIF(D9:AH9,Schichten!$A$7)*Schichten!$F$7+COUNTIF(D9:AH9,Schichten!$A$8)*Schichten!$F$8) | AK9: =IF(OR(AI9="",AJ9=""),"",AJ9-AI9)
A10: =Team!$A$9&"" | B10: =Team!$B$9&"" | C10: =Team!$C$9&"" | AI10: =IF(Team!$D$9="","",Team!$D$9) | AJ10: =IF(AND($A10="",COUNTA(D10:AH10)=0),"",COUNTIF(D10:AH10,Schichten!$A$2)*Schichten!$F$2+COUNTIF(D10:AH10,Schichten!$A$3)*Schichten!$F$3+COUNTIF(D10:AH10,Schichten!$A$4)*Schichten!$F$4+COUNTIF(D10:AH10,Schichten!$A$5)*Schichten!$F$5+COUNTIF(D10:AH10,Schichten!$A$6)*Schichten!$F$6+COUNTIF(D10:AH10,Schichten!$A$7)*Schichten!$F$7+COUNTIF(D10:AH10,Schichten!$A$8)*Schichten!$F$8) | AK10: =IF(OR(AI10="",AJ10=""),"",AJ10-AI10)
A11: =Team!$A$10&"" | B11: =Team!$B$10&"" | C11: =Team!$C$10&"" | AI11: =IF(Team!$D$10="","",Team!$D$10) | AJ11: =IF(AND($A11="",COUNTA(D11:AH11)=0),"",COUNTIF(D11:AH11,Schichten!$A$2)*Schichten!$F$2+COUNTIF(D11:AH11,Schichten!$A$3)*Schichten!$F$3+COUNTIF(D11:AH11,Schichten!$A$4)*Schichten!$F$4+COUNTIF(D11:AH11,Schichten!$A$5)*Schichten!$F$5+COUNTIF(D11:AH11,Schichten!$A$6)*Schichten!$F$6+COUNTIF(D11:AH11,Schichten!$A$7)*Schichten!$F$7+COUNTIF(D11:AH11,Schichten!$A$8)*Schichten!$F$8) | AK11: =IF(OR(AI11="",AJ11=""),"",AJ11-AI11)
A12: =Team!$A$11&"" | B12: =Team!$B$11&"" | C12: =Team!$C$11&"" | AI12: =IF(Team!$D$11="","",Team!$D$11) | AJ12: =IF(AND($A12="",COUNTA(D12:AH12)=0),"",COUNTIF(D12:AH12,Schichten!$A$2)*Schichten!$F$2+COUNTIF(D12:AH12,Schichten!$A$3)*Schichten!$F$3+COUNTIF(D12:AH12,Schichten!$A$4)*Schichten!$F$4+COUNTIF(D12:AH12,Schichten!$A$5)*Schichten!$F$5+COUNTIF(D12:AH12,Schichten!$A$6)*Schichten!$F$6+COUNTIF(D12:AH12,Schichten!$A$7)*Schichten!$F$7+COUNTIF(D12:AH12,Schichten!$A$8)*Schichten!$F$8) | AK12: =IF(OR(AI12="",AJ12=""),"",AJ12-AI12)
A13: =Team!$A$12&"" | B13: =Team!$B$12&"" | C13: =Team!$C$12&"" | AI13: =IF(Team!$D$12="","",Team!$D$12) | AJ13: =IF(AND($A13="",COUNTA(D13:AH13)=0),"",COUNTIF(D13:AH13,Schichten!$A$2)*Schichten!$F$2+COUNTIF(D13:AH13,Schichten!$A$3)*Schichten!$F$3+COUNTIF(D13:AH13,Schichten!$A$4)*Schichten!$F$4+COUNTIF(D13:AH13,Schichten!$A$5)*Schichten!$F$5+COUNTIF(D13:AH13,Schichten!$A$6)*Schichten!$F$6+COUNTIF(D13:AH13,Schichten!$A$7)*Schichten!$F$7+COUNTIF(D13:AH13,Schichten!$A$8)*Schichten!$F$8) | AK13: =IF(OR(AI13="",AJ13=""),"",AJ13-AI13)
A14: =Team!$A$13&"" | B14: =Team!$B$13&"" | C14: =Team!$C$13&"" | AI14: =IF(Team!$D$13="","",Team!$D$13) | AJ14: =IF(AND($A14="",COUNTA(D14:AH14)=0),"",COUNTIF(D14:AH14,Schichten!$A$2)*Schichten!$F$2+COUNTIF(D14:AH14,Schichten!$A$3)*Schichten!$F$3+COUNTIF(D14:AH14,Schichten!$A$4)*Schichten!$F$4+COUNTIF(D14:AH14,Schichten!$A$5)*Schichten!$F$5+COUNTIF(D14:AH14,Schichten!$A$6)*Schichten!$F$6+COUNTIF(D14:AH14,Schichten!$A$7)*Schichten!$F$7+COUNTIF(D14:AH14,Schichten!$A$8)*Schichten!$F$8) | AK14: =IF(OR(AI14="",AJ14=""),"",AJ14-AI14)
A15: =Team!$A$14&"" | B15: =Team!$B$14&"" | C15: =Team!$C$14&"" | AI15: =IF(Team!$D$14="","",Team!$D$14) | AJ15: =IF(AND($A15="",COUNTA(D15:AH15)=0),"",COUNTIF(D15:AH15,Schichten!$A$2)*Schichten!$F$2+COUNTIF(D15:AH15,Schichten!$A$3)*Schichten!$F$3+COUNTIF(D15:AH15,Schichten!$A$4)*Schichten!$F$4+COUNTIF(D15:AH15,Schichten!$A$5)*Schichten!$F$5+COUNTIF(D15:AH15,Schichten!$A$6)*Schichten!$F$6+COUNTIF(D15:AH15,Schichten!$A$7)*Schichten!$F$7+COUNTIF(D15:AH15,Schichten!$A$8)*Schichten!$F$8) | AK15: =IF(OR(AI15="",AJ15=""),"",AJ15-AI15)
A16: =Team!$A$15&"" | B16: =Team!$B$15&"" | C16: =Team!$C$15&"" | AI16: =IF(Team!$D$15="","",Team!$D$15) | AJ16: =IF(AND($A16="",COUNTA(D16:AH16)=0),"",COUNTIF(D16:AH16,Schichten!$A$2)*Schichten!$F$2+COUNTIF(D16:AH16,Schichten!$A$3)*Schichten!$F$3+COUNTIF(D16:AH16,Schichten!$A$4)*Schichten!$F$4+COUNTIF(D16:AH16,Schichten!$A$5)*Schichten!$F$5+COUNTIF(D16:AH16,Schichten!$A$6)*Schichten!$F$6+COUNTIF(D16:AH16,Schichten!$A$7)*Schichten!$F$7+COUNTIF(D16:AH16,Schichten!$A$8)*Schichten!$F$8) | AK16: =IF(OR(AI16="",AJ16=""),"",AJ16-AI16)
A17: =Team!$A$16&"" | B17: =Team!$B$16&"" | C17: =Team!$C$16&"" | AI17: =IF(Team!$D$16="","",Team!$D$16) | AJ17: =IF(AND($A17="",COUNTA(D17:AH17)=0),"",COUNTIF(D17:AH17,Schichten!$A$2)*Schichten!$F$2+COUNTIF(D17:AH17,Schichten!$A$3)*Schichten!$F$3+COUNTIF(D17:AH17,Schichten!$A$4)*Schichten!$F$4+COUNTIF(D17:AH17,Schichten!$A$5)*Schichten!$F$5+COUNTIF(D17:AH17,Schichten!$A$6)*Schichten!$F$6+COUNTIF(D17:AH17,Schichten!$A$7)*Schichten!$F$7+COUNTIF(D17:AH17,Schichten!$A$8)*Schichten!$F$8) | AK17: =IF(OR(AI17="",AJ17=""),"",AJ17-AI17)
A18: =Team!$A$17&"" | B18: =Team!$B$17&"" | C18: =Team!$C$17&"" | AI18: =IF(Team!$D$17="","",Team!$D$17) | AJ18: =IF(AND($A18="",COUNTA(D18:AH18)=0),"",COUNTIF(D18:AH18,Schichten!$A$2)*Schichten!$F$2+COUNTIF(D18:AH18,Schichten!$A$3)*Schichten!$F$3+COUNTIF(D18:AH18,Schichten!$A$4)*Schichten!$F$4+COUNTIF(D18:AH18,Schichten!$A$5)*Schichten!$F$5+COUNTIF(D18:AH18,Schichten!$A$6)*Schichten!$F$6+COUNTIF(D18:AH18,Schichten!$A$7)*Schichten!$F$7+COUNTIF(D18:AH18,Schichten!$A$8)*Schichten!$F$8) | AK18: =IF(OR(AI18="",AJ18=""),"",AJ18-AI18)
A19: =Team!$A$18&"" | B19: =Team!$B$18&"" | C19: =Team!$C$18&"" | AI19: =IF(Team!$D$18="","",Team!$D$18) | AJ19: =IF(AND($A19="",COUNTA(D19:AH19)=0),"",COUNTIF(D19:AH19,Schichten!$A$2)*Schichten!$F$2+COUNTIF(D19:AH19,Schichten!$A$3)*Schichten!$F$3+COUNTIF(D19:AH19,Schichten!$A$4)*Schichten!$F$4+COUNTIF(D19:AH19,Schichten!$A$5)*Schichten!$F$5+COUNTIF(D19:AH19,Schichten!$A$6)*Schichten!$F$6+COUNTIF(D19:AH19,Schichten!$A$7)*Schichten!$F$7+COUNTIF(D19:AH19,Schichten!$A$8)*Schichten!$F$8) | AK19: =IF(OR(AI19="",AJ19=""),"",AJ19-AI19)
A20: =Team!$A$19&"" | B20: =Team!$B$19&"" | C20: =Team!$C$19&"" | AI20: =IF(Team!$D$19="","",Team!$D$19) | AJ20: =IF(AND($A20="",COUNTA(D20:AH20)=0),"",COUNTIF(D20:AH20,Schichten!$A$2)*Schichten!$F$2+COUNTIF(D20:AH20,Schichten!$A$3)*Schichten!$F$3+COUNTIF(D20:AH20,Schichten!$A$4)*Schichten!$F$4+COUNTIF(D20:AH20,Schichten!$A$5)*Schichten!$F$5+COUNTIF(D20:AH20,Schichten!$A$6)*Schichten!$F$6+COUNTIF(D20:AH20,Schichten!$A$7)*Schichten!$F$7+COUNTIF(D20:AH20,Schichten!$A$8)*Schichten!$F$8) | AK20: =IF(OR(AI20="",AJ20=""),"",AJ20-AI20)
A21: =Team!$A$20&"" | B21: =Team!$B$20&"" | C21: =Team!$C$20&"" | AI21: =IF(Team!$D$20="","",Team!$D$20) | AJ21: =IF(AND($A21="",COUNTA(D21:AH21)=0),"",COUNTIF(D21:AH21,Schichten!$A$2)*Schichten!$F$2+COUNTIF(D21:AH21,Schichten!$A$3)*Schichten!$F$3+COUNTIF(D21:AH21,Schichten!$A$4)*Schichten!$F$4+COUNTIF(D21:AH21,Schichten!$A$5)*Schichten!$F$5+COUNTIF(D21:AH21,Schichten!$A$6)*Schichten!$F$6+COUNTIF(D21:AH21,Schichten!$A$7)*Schichten!$F$7+COUNTIF(D21:AH21,Schichten!$A$8)*Schichten!$F$8) | AK21: =IF(OR(AI21="",AJ21=""),"",AJ21-AI21)
A23: Bundesweite Feiertage im Dezember 2027: Sa 25.12. 1. Weihnachtstag, So 26.12. 2. Weihnachtstag
A25: Kostenlose Vorlage von www.crew-active.de/ressourcen/blog/dienstplan-vorlage-excel/
